#------------------------------------------------------------------------------
#$Date: 2016-02-09 20:42:54 +0200 (Tue, 09 Feb 2016) $
#$Revision: 176292 $
#$URL: svn://www.crystallography.net/cod/cif/6/00/06/6000612.cif $
#------------------------------------------------------------------------------
#
# This file is available in the Crystallography Open Database (COD),
# http://www.crystallography.net/
#
# All data on this site have been placed in the public domain by the
# contributors.
#
data_6000612
loop_
_publ_author_name
'Ayyappan, P.'
'Ramanan, A.'
'Torardi, C. C.'
_publ_section_title
;
 New metal-intercalated layered vanadyl phosphates, MxVOPO4.yH(2)O (M =
 Ag, Cu, Zn)
;
_journal_name_full               'Inorganic Chemistry'
_journal_page_first              3628
_journal_page_last               3634
_journal_paper_doi               10.1021/ic980228b
_journal_volume                  37
_journal_year                    1998
_chemical_formula_sum            'Cu0.16 H5 O7.5 P V'
_space_group_name_H-M_alt        'P -1'
_cell_angle_alpha                83.620
_cell_angle_beta                 73.990
_cell_angle_gamma                90.130
_cell_length_a                   6.2600
_cell_length_b                   6.2490
_cell_length_c                   7.2570
_cell_volume                     271.02
_cod_database_code               6000612
loop_
_atom_site_label
_atom_site_fract_x
_atom_site_fract_y
_atom_site_fract_z
? ? ? ?
