#------------------------------------------------------------------------------
#$Date: 2016-02-09 20:42:54 +0200 (Tue, 09 Feb 2016) $
#$Revision: 176292 $
#$URL: svn://www.crystallography.net/cod/cif/6/00/07/6000704.cif $
#------------------------------------------------------------------------------
#
# This file is available in the Crystallography Open Database (COD),
# http://www.crystallography.net/
#
# All data on this site have been placed in the public domain by the
# contributors.
#
data_6000704
loop_
_publ_author_name
'Benardrocherulle, P.'
'Rius, J.'
'Louer, D.'
_publ_section_title
;
 Structural analysis of zirconium hydroxide nitrate monohydrates by X-ray
 powder diffraction
;
_journal_name_full               'Journal of Solid State Chemistry'
_journal_page_first              295
_journal_page_last               304
_journal_paper_doi               10.1006/jssc.1996.7226
_journal_volume                  128
_journal_year                    1997
_chemical_formula_sum            'H4 N2 O9 Zr'
_space_group_name_H-M_alt        'P -1'
_cell_angle_alpha                109.580
_cell_angle_beta                 98.960
_cell_angle_gamma                80.430
_cell_length_a                   9.1800
_cell_length_b                   10.4650
_cell_length_c                   8.0760
_cell_volume                     716.62
_cod_database_code               6000704
loop_
_atom_site_label
_atom_site_fract_x
_atom_site_fract_y
_atom_site_fract_z
? ? ? ?
