#------------------------------------------------------------------------------
#$Date: 2016-02-09 20:42:54 +0200 (Tue, 09 Feb 2016) $
#$Revision: 176292 $
#$URL: svn://www.crystallography.net/cod/cif/6/00/07/6000740.cif $
#------------------------------------------------------------------------------
#
# This file is available in the Crystallography Open Database (COD),
# http://www.crystallography.net/
#
# All data on this site have been placed in the public domain by the
# contributors.
#
data_6000740
loop_
_publ_author_name
'de Chalbaud, L. M.'
'Delgado, J. M.'
'Sagredo, V.'
_publ_section_title
;
 X-ray powder diffraction data and structural characterization of Cu2GeS3
 and Cu2SnS3
;
_journal_name_full               'Ternary and Multinary Compounds'
_journal_page_first              151
_journal_page_last               154
_journal_volume                  152
_journal_year                    1998
_chemical_formula_sum            'Cu2 Ge S3'
_space_group_name_H-M_alt        'C 1 c 1'
_cell_angle_alpha                90.000
_cell_angle_beta                 108.370
_cell_angle_gamma                90.000
_cell_length_a                   6.4430
_cell_length_b                   11.3510
_cell_length_c                   6.4140
_cell_volume                     445.18
_cod_database_code               6000740
loop_
_atom_site_label
_atom_site_fract_x
_atom_site_fract_y
_atom_site_fract_z
? ? ? ?
