#------------------------------------------------------------------------------
#$Date: 2016-02-09 20:42:54 +0200 (Tue, 09 Feb 2016) $
#$Revision: 176292 $
#$URL: svn://www.crystallography.net/cod/cif/6/00/07/6000743.cif $
#------------------------------------------------------------------------------
#
# This file is available in the Crystallography Open Database (COD),
# http://www.crystallography.net/
#
# All data on this site have been placed in the public domain by the
# contributors.
#
data_6000743
loop_
_publ_author_name
'Onoda-Yamamuro, N.'
'Honda, H.'
'Ikeda, R.'
'Yamamuro, O.'
'Matsuo, T.'
'Oikawa, K.'
'Kamiyama, T.'
'Izumi, F.'
_publ_section_title
;
 Neutron powder diffraction study of the low-temperature phases of KNO2
;
_journal_name_full               'Journal of Physics: Condensed Matter'
_journal_page_first              3341
_journal_page_last               3351
_journal_paper_doi               10.1088/0953-8984/10/15/011
_journal_volume                  10
_journal_year                    1998
_chemical_formula_sum            'K N O2'
_space_group_name_H-M_alt        'R -3 m'
_cell_angle_alpha                90.000
_cell_angle_beta                 90.000
_cell_angle_gamma                120.000
_cell_length_a                   5.0279
_cell_length_b                   5.0279
_cell_length_c                   10.0559
_cell_volume                     220.15
_diffrn_ambient_temperature      280
_cod_database_code               6000743
loop_
_atom_site_label
_atom_site_fract_x
_atom_site_fract_y
_atom_site_fract_z
? ? ? ?
