#------------------------------------------------------------------------------
#$Date: 2016-02-16 03:10:39 +0200 (Tue, 16 Feb 2016) $
#$Revision: 176453 $
#$URL: svn://www.crystallography.net/cod/cif/7/21/83/7218313.cif $
#------------------------------------------------------------------------------
#
# This file is available in the Crystallography Open Database (COD),
# http://www.crystallography.net/
#
# All data on this site have been placed in the public domain by the
# contributors.
#
data_7218313
loop_
_publ_author_name
'Wesela-Bauman, Grzegorz'
'Parsons, Simon'
'Serwatowski, Janusz'
'Woźniak, Krzysztof'
_publ_section_title
;
 Effect of high pressure on the crystal structure and charge transport
 properties of the (2-fluoro-3-pyridyl)(4-iodophenyl)borinic
 8-oxyquinolinate complex
;
_journal_issue                   47
_journal_name_full               CrystEngComm
_journal_page_first              10780
_journal_paper_doi               10.1039/C4CE01730G
_journal_volume                  16
_journal_year                    2014
_chemical_formula_moiety         'C20 H13 B1 F1 I1 N2 O1'
_chemical_formula_sum            'C20 H13 B F I N2 O'
_chemical_formula_weight         454.05
_space_group_IT_number           14
_symmetry_cell_setting           monoclinic
_symmetry_space_group_name_Hall  '-P 2yn'
_symmetry_space_group_name_H-M   'P 1 21/n 1'
_atom_sites_solution_hydrogens   difmap
_atom_sites_solution_primary     other
_audit_creation_date             12-09-11
_audit_creation_method           CRYSTALS_ver_14.40
_cell_angle_alpha                90
_cell_angle_beta                 90.460(5)
_cell_angle_gamma                90
_cell_formula_units_Z            4
_cell_length_a                   6.6545(2)
_cell_length_b                   14.3261(5)
_cell_length_c                   16.7183(14)
_cell_measurement_reflns_used    3429
_cell_measurement_temperature    296
_cell_measurement_theta_max      25
_cell_measurement_theta_min      3
_cell_volume                     1593.75(15)
_computing_cell_refinement       'Apex2 (Bruker AXS, 2006)'
_computing_data_collection       'Apex2 (Bruker AXS, 2006)'
_computing_data_reduction        'Apex2 (Bruker AXS, 2006)'
_computing_molecular_graphics    'CAMERON (Watkin et al., 1996)'
_computing_publication_material  'CRYSTALS (Betteridge et al., 2003)'
_computing_structure_refinement  'CRYSTALS (Betteridge et al., 2003)'
_computing_structure_solution    'Superflip (Palatinus & Chapuis, 2007)'
_diffrn_ambient_pressure         1085565
_diffrn_ambient_temperature      296
_diffrn_measured_fraction_theta_full 0.391
_diffrn_measured_fraction_theta_max 0.391
_diffrn_measurement_device       Area
_diffrn_measurement_device_type  'Bruker Kappa Apex2'
_diffrn_measurement_method       ω
_diffrn_radiation_monochromator  graphite
_diffrn_radiation_type           'Mo K\a'
_diffrn_radiation_wavelength     0.71073
_diffrn_reflns_av_R_equivalents  0.043
_diffrn_reflns_limit_h_max       8
_diffrn_reflns_limit_h_min       -8
_diffrn_reflns_limit_k_max       17
_diffrn_reflns_limit_k_min       -17
_diffrn_reflns_limit_l_max       7
_diffrn_reflns_limit_l_min       -7
_diffrn_reflns_number            8787
_diffrn_reflns_theta_full        25.382
_diffrn_reflns_theta_max         25.382
_diffrn_reflns_theta_min         2.844
_diffrn_standards_number         0
_exptl_absorpt_coefficient_mu    2.032
_exptl_absorpt_correction_T_max  0.67
_exptl_absorpt_correction_T_min  0.59
_exptl_absorpt_correction_type   multi-scan
_exptl_absorpt_process_details   'SADABS (Siemens, 1996)'
_exptl_crystal_colour            green
_exptl_crystal_density_diffrn    1.892
_exptl_crystal_density_method    'not measured'
_exptl_crystal_description       block
_exptl_crystal_F_000             888
_exptl_crystal_size_max          0.250
_exptl_crystal_size_mid          0.200
_exptl_crystal_size_min          0.200
_refine_diff_density_max         0.39
_refine_diff_density_min         -0.29
_refine_ls_extinction_method     None
_refine_ls_goodness_of_fit_ref   0.9999
_refine_ls_hydrogen_treatment    constr
_refine_ls_matrix_type           full
_refine_ls_number_parameters     110
_refine_ls_number_reflns         878
_refine_ls_number_restraints     0
_refine_ls_R_factor_all          0.0642
_refine_ls_R_factor_gt           0.0354
_refine_ls_shift/su_max          0.0003439
_refine_ls_shift/su_mean         0.0000259
_refine_ls_structure_factor_coef F
_refine_ls_weighting_details
;
 Method, part 1, Chebychev polynomial, (Watkin, 1994, Prince, 1982) 
 [weight] = 1.0/[A₀*T₀(x)+A₁*T₁(x) ... +Aₙ₋₁]*Tₙ₋₁(x)] 
 where Ai are the Chebychev coefficients listed below and x= Fcalc/Fmax 
 Method = Robust Weighting (Prince, 1982) 
 W = [weight] * [1-(deltaF/6*sigmaF)²]² 
 Ai are: 
 0.381 0.145 0.203 
;
_refine_ls_weighting_scheme      calc
_refine_ls_wR_factor_all         0.0571
_refine_ls_wR_factor_gt          0.0385
_refine_ls_wR_factor_ref         0.0385
_reflns_limit_h_max              8
_reflns_limit_h_min              -8
_reflns_limit_k_max              17
_reflns_limit_k_min              0
_reflns_limit_l_max              7
_reflns_limit_l_min              0
_reflns_number_gt                878
_reflns_number_total             1141
_reflns_threshold_expression     I>2.0σ(I)
_oxford_diffrn_Wilson_B_factor   0.00
_oxford_diffrn_Wilson_scale      0.00
_oxford_refine_ls_r_factor_ref   0.0354
_oxford_refine_ls_scale          0.1427(4)
_oxford_reflns_number_all        1132
_oxford_reflns_threshold_expression_ref I>2.0\s(I)
_oxford_structure_analysis_title '1_P=1.09GPa in P2(1)/n'
_cod_data_source_file            c4ce01730g2.cif
_cod_data_source_block           1_P=1.09GPa
_cod_depositor_comments
;
The following automatic conversions were performed:

'_atom_sites_solution_primary' value 'Other' changed to 'other'
according to
/usr/data/users/saulius/crontab/automatic-downloads/rss-feeds/RSC/lib/dictionaries/cif_core.dic
dictionary named 'cif_core.dic' version 2.4.2 from 2011-04-26.

Automatic conversion script
Id: cif_fix_values 2827 2014-09-09 07:05:25Z andrius 

 Adding full bibliography for 7218311--7218317.cif.
;
_cod_original_sg_symbol_H-M      'P 1 21/n 1 '
_cod_original_formula_sum        'C20 H13 B1 F1 I1 N2 O1'
_cod_database_code               7218313
#BEGIN Tags that were not found in dictionaries:
_iucr_refine_instruction_details_constraints
;
BLOCK 
CONT SCALE 
CONT C    (    1 ,X'S,U[ISO])  UNTIL C    (   20 ) 
CONT I    (    1 ,X'S,U'S) 
CONT B    (    1 ,X'S,U[ISO])  UNTIL N    (    2 ) 
RIDE C   (   1,X'S) H   (   1,X'S) 
RIDE C   (   2,X'S) H   (   2,X'S) 
RIDE C   (   3,X'S) H   (   3,X'S) 
RIDE C   (   5,X'S) H   (   5,X'S) 
RIDE C   (   6,X'S) H   (   6,X'S) 
RIDE C   (   7,X'S) H   (   7,X'S) 
RIDE C   (  12,X'S) H   (  12,X'S) 
RIDE C   (  13,X'S) H   (  13,X'S) 
RIDE C   (  14,X'S) H   (  14,X'S) 
RIDE C   (  16,X'S) H   (  16,X'S) 
RIDE C   (  17,X'S) H   (  17,X'S) 
RIDE C   (  19,X'S) H   (  19,X'S) 
RIDE C   (  20,X'S) H   (  20,X'S) 
END                                                                             
;
_iucr_refine_instruction_details_restraints
;
NO 
REM   HREST   START (DO NOT REMOVE THIS LINE) 
REM   HREST   END (DO NOT REMOVE THIS LINE) 
END                                                                             
;
#END Tags that were not found in dictionaries
loop_
_symmetry_equiv_pos_as_xyz
x,y,z
-x,-y,-z
-x+1/2,y+1/2,-z+1/2
x+1/2,-y+1/2,z+1/2
loop_
_atom_site_label
_atom_site_type_symbol
_atom_site_fract_x
_atom_site_fract_y
_atom_site_fract_z
_atom_site_U_iso_or_equiv
_atom_site_occupancy
_atom_site_adp_type
_atom_site_refinement_flags_posn
H1 H 0.4916 0.8720 0.4014 0.0545 1.0000 Uiso R
H2 H 0.5597 0.8696 0.2718 0.0643 1.0000 Uiso R
H3 H 0.3494 0.7966 0.1809 0.0653 1.0000 Uiso R
H5 H -0.0025 0.7069 0.1599 0.0681 1.0000 Uiso R
H6 H -0.2690 0.6482 0.2266 0.0663 1.0000 Uiso R
H7 H -0.3085 0.6545 0.3605 0.0562 1.0000 Uiso R
H12 H -0.1788 0.8536 0.5547 0.0552 1.0000 Uiso R
H13 H -0.2226 0.9757 0.6410 0.0713 1.0000 Uiso R
H14 H 0.0419 1.0621 0.6830 0.0683 1.0000 Uiso R
H16 H 0.0813 0.6401 0.5916 0.0552 1.0000 Uiso R
H17 H 0.2682 0.5274 0.6518 0.0605 1.0000 Uiso R
H19 H 0.7513 0.6210 0.5370 0.0471 1.0000 Uiso R
H20 H 0.5650 0.7353 0.4814 0.0475 1.0000 Uiso R
C1 C 0.4055(11) 0.8434(4) 0.3667(12) 0.0274(17) 1.0000 Uiso .
C2 C 0.4484(12) 0.8405(5) 0.2902(13) 0.035(2) 1.0000 Uiso .
C3 C 0.3218(12) 0.7974(5) 0.2336(12) 0.042(2) 1.0000 Uiso .
C4 C 0.1448(12) 0.7564(5) 0.2645(13) 0.0303(18) 1.0000 Uiso .
C5 C -0.0114(12) 0.7109(5) 0.2141(13) 0.047(2) 1.0000 Uiso .
C6 C -0.1719(13) 0.6763(5) 0.2567(15) 0.039(2) 1.0000 Uiso .
C7 C -0.2003(11) 0.6801(4) 0.3367(13) 0.0269(18) 1.0000 Uiso .
C8 C -0.0521(9) 0.7243(4) 0.3894(12) 0.0176(16) 1.0000 Uiso .
C9 C 0.1098(10) 0.7612(4) 0.3415(12) 0.0226(17) 1.0000 Uiso .
C10 C 0.2652(10) 0.9308(5) 0.5705(11) 0.0288(17) 1.0000 Uiso .
C11 C 0.1179(9) 0.8700(4) 0.5407(10) 0.0227(15) 1.0000 Uiso .
C12 C -0.0722(10) 0.8894(5) 0.5705(11) 0.0285(17) 1.0000 Uiso .
C13 C -0.0987(11) 0.9623(5) 0.6233(12) 0.0373(19) 1.0000 Uiso .
C14 C 0.0606(11) 1.0149(5) 0.6489(12) 0.040(2) 1.0000 Uiso .
C15 C 0.2977(9) 0.7021(4) 0.5284(10) 0.0251(16) 1.0000 Uiso .
C16 C 0.2146(10) 0.6367(4) 0.5817(10) 0.0267(16) 1.0000 Uiso .
C17 C 0.3269(10) 0.5684(5) 0.6178(11) 0.0308(17) 1.0000 Uiso .
C18 C 0.5317(10) 0.5633(4) 0.6016(10) 0.0254(16) 1.0000 Uiso .
C19 C 0.6174(10) 0.6257(4) 0.5470(10) 0.0275(17) 1.0000 Uiso .
C20 C 0.5024(10) 0.6938(4) 0.5143(10) 0.0267(16) 1.0000 Uiso .
I1 I 0.71461(7) 0.46249(3) 0.65431(7) 0.0425 1.0000 Uani .
B1 B 0.1551(11) 0.7807(5) 0.4825(13) 0.0226(18) 1.0000 Uiso .
O1 O -0.0435(7) 0.7379(3) 0.4666(9) 0.0306(15) 1.0000 Uiso .
N1 N 0.2407(8) 0.8020(3) 0.3961(8) 0.0220(13) 1.0000 Uiso .
F1 F 0.4561(6) 0.9163(3) 0.5421(6) 0.0355(11) 1.0000 Uiso .
N2 N 0.2462(8) 1.0005(4) 0.6179(9) 0.0356(15) 1.0000 Uiso .
loop_
_atom_site_aniso_label
_atom_site_aniso_U_11
_atom_site_aniso_U_22
_atom_site_aniso_U_33
_atom_site_aniso_U_23
_atom_site_aniso_U_13
_atom_site_aniso_U_12
I1 0.0413(3) 0.0248(2) 0.061(2) 0.0028(4) -0.0100(4) 0.0070(2)
loop_
_atom_type_symbol
_atom_type_scat_dispersion_real
_atom_type_scat_dispersion_imag
_atom_type_scat_Cromer_Mann_a1
_atom_type_scat_Cromer_Mann_b1
_atom_type_scat_Cromer_Mann_a2
_atom_type_scat_Cromer_Mann_b2
_atom_type_scat_Cromer_Mann_a3
_atom_type_scat_Cromer_Mann_b3
_atom_type_scat_Cromer_Mann_a4
_atom_type_scat_Cromer_Mann_b4
_atom_type_scat_Cromer_Mann_c
_atom_type_scat_source
C 0.0033 0.0016 2.3100 20.8439 1.0200 10.2075 1.5886 0.5687 0.8650 51.6512
0.2156 'International Tables Vol C 4.2.6.8 and 6.1.1.4'
H 0.0000 0.0000 0.4930 10.5109 0.3229 26.1257 0.1402 3.1424 0.0408 57.7998
0.0030 'International Tables Vol C 4.2.6.8 and 6.1.1.4'
B 0.0013 0.0007 2.0545 23.2185 1.3326 1.0210 1.0979 60.3498 0.7068 0.1403
-0.1932 'International Tables Vol C 4.2.6.8 and 6.1.1.4'
N 0.0061 0.0033 12.2126 0.0057 3.1322 9.8933 2.0125 28.9975 1.1663 0.5826
-11.5290 'International Tables Vol C 4.2.6.8 and 6.1.1.4'
O 0.0106 0.0060 3.0485 13.2771 2.2868 5.7011 1.5463 0.3239 0.8670 32.9089
0.2508 'International Tables Vol C 4.2.6.8 and 6.1.1.4'
F 0.0171 0.0103 3.5392 10.2825 2.6412 4.2944 1.5170 0.2615 1.0243 26.1476
0.2776 'International Tables Vol C 4.2.6.8 and 6.1.1.4'
I -0.4742 1.8119 20.1472 4.3470 18.9949 0.3814 7.5138 27.7660 2.2735 66.8776
4.0712 'International Tables Vol C 4.2.6.8 and 6.1.1.4'
loop_
_geom_angle_atom_site_label_1
_geom_angle_atom_site_label_2
_geom_angle_atom_site_label_3
_geom_angle
_geom_angle_publ_flag
H1 C1 C2 119.7 no
H1 C1 N1 118.5 no
C2 C1 N1 121.8(13) yes
H2 C2 C1 120.0 no
H2 C2 C3 117.4 no
C1 C2 C3 122.4(10) yes
C2 C3 H3 122.5 no
C2 C3 C4 115.6(17) yes
H3 C3 C4 121.9 no
C3 C4 C5 123.8(18) yes
C3 C4 C9 119.4(14) yes
C5 C4 C9 116.8(11) yes
C4 C5 H5 122.8 no
C4 C5 C6 114.0(18) yes
H5 C5 C6 123.2 no
C5 C6 H6 114.9 no
C5 C6 C7 127.6(14) yes
H6 C6 C7 117.4 no
H7 C7 C6 122.5 no
H7 C7 C8 116.6 no
C6 C7 C8 121.0(11) yes
C7 C8 C9 109.0(17) yes
C7 C8 O1 133.2(11) yes
C9 C8 O1 117.7(11) yes
C8 C9 C4 131.5(13) yes
C8 C9 N1 104.8(16) yes
C4 C9 N1 123.6(9) yes
C11 C10 F1 115.3(10) yes
C11 C10 N2 129.3(8) yes
F1 C10 N2 115.3(7) yes
C10 C11 C12 112.5(10) yes
C10 C11 B1 126.4(7) yes
C12 C11 B1 121.0(7) yes
C11 C12 H12 119.4 no
C11 C12 C13 120.1(8) yes
H12 C12 C13 120.5 no
C12 C13 H13 119.7 no
C12 C13 C14 121.0(9) yes
H13 C13 C14 119.4 no
C13 C14 H14 120.3 no
C13 C14 N2 120.2(13) yes
H14 C14 N2 119.3 no
C16 C15 C20 116.1(9) yes
C16 C15 B1 121.2(6) yes
C20 C15 B1 122.5(11) yes
C15 C16 H16 118.1 no
C15 C16 C17 122.6(7) yes
H16 C16 C17 119.3 no
C16 C17 H17 120.2 no
C16 C17 C18 118.9(11) yes
H17 C17 C18 120.9 no
C17 C18 C19 119.7(10) yes
C17 C18 I1 121.6(9) yes
C19 C18 I1 118.6(5) yes
C18 C19 H19 118.5 no
C18 C19 C20 119.4(7) yes
H19 C19 C20 122.0 no
C15 C20 H20 120.0 no
C15 C20 C19 123.0(11) yes
H20 C20 C19 117.0 no
C15 B1 C11 110.3(13) yes
C15 B1 O1 108.0(6) yes
C11 B1 O1 107.1(7) yes
C15 B1 N1 110.1(7) yes
C11 B1 N1 116.8(7) yes
O1 B1 N1 104.0(13) yes
B1 O1 C8 105.8(11) yes
B1 N1 C9 106.9(8) yes
B1 N1 C1 135.9(12) yes
C9 N1 C1 117.1(14) yes
C14 N2 C10 116.6(8) yes
loop_
_geom_bond_atom_site_label_1
_geom_bond_atom_site_label_2
_geom_bond_distance
_geom_bond_publ_flag
H1 C1 0.910 no
H2 C2 0.906 no
H3 C3 0.900 no
H5 C5 0.910 no
H6 C6 0.910 no
H7 C7 0.903 no
H12 C12 0.913 no
H13 C13 0.899 no
H14 C14 0.894 no
H16 C16 0.905 no
H17 C17 0.908 no
H19 C19 0.911 no
H20 C20 0.912 no
C1 C2 1.31(2) yes
C1 N1 1.344(12) yes
C2 C3 1.41(2) yes
C3 C4 1.417(15) yes
C4 C5 1.48(2) yes
C4 C9 1.31(2) yes
C5 C6 1.381(19) yes
C6 C7 1.35(3) yes
C7 C8 1.46(2) yes
C8 C9 1.447(18) yes
C8 O1 1.31(2) yes
C9 N1 1.387(18) yes
C10 C11 1.401(13) yes
C10 F1 1.376(10) yes
C10 N2 1.281(16) yes
C11 C12 1.391(11) yes
C11 B1 1.626(17) yes
C12 C13 1.381(19) yes
C13 C14 1.365(14) yes
C14 N2 1.359(12) yes
C15 C16 1.409(17) yes
C15 C20 1.390(9) yes
C15 B1 1.657(15) yes
C16 C17 1.368(15) yes
C17 C18 1.393(10) yes
C18 C19 1.403(17) yes
C18 I1 2.080(10) yes
C19 C20 1.353(13) yes
B1 O1 1.479(10) yes
B1 N1 1.59(2) yes
loop_
_geom_hbond_atom_site_label_D
_geom_hbond_atom_site_label_H
_geom_hbond_atom_site_label_A
_geom_hbond_site_symmetry_A
_geom_hbond_angle_DHA
_geom_hbond_distance_DH
_geom_hbond_distance_HA
_geom_hbond_distance_DA
_geom_hbond_publ_flag
C1 H1 N2 2_676 132.1(5) 0.910 2.548 3.229(16) yes
C19 H19 O1 1_655 125.8(2) 0.911 2.465 3.088(16) yes
#BEGIN Loops that were not found in dictionaries:
loop_
_oxford_refln_omitted_index_h
_oxford_refln_omitted_index_k
_oxford_refln_omitted_index_l
_oxford_refln_omitted_flag
-6 2 6 x
-3 6 6 x
2 1 3 x
-1 8 4 x
-3 10 7 x
-1 11 7 x
1 14 7 x
1 12 7 x
6 2 5 x
#END Loops that were not found in dictionaries
