#------------------------------------------------------------------------------
#$Date: 2016-02-16 03:10:39 +0200 (Tue, 16 Feb 2016) $
#$Revision: 176453 $
#$URL: svn://www.crystallography.net/cod/cif/7/21/83/7218314.cif $
#------------------------------------------------------------------------------
#
# This file is available in the Crystallography Open Database (COD),
# http://www.crystallography.net/
#
# All data on this site have been placed in the public domain by the
# contributors.
#
data_7218314
loop_
_publ_author_name
'Wesela-Bauman, Grzegorz'
'Parsons, Simon'
'Serwatowski, Janusz'
'Woźniak, Krzysztof'
_publ_section_title
;
 Effect of high pressure on the crystal structure and charge transport
 properties of the (2-fluoro-3-pyridyl)(4-iodophenyl)borinic
 8-oxyquinolinate complex
;
_journal_issue                   47
_journal_name_full               CrystEngComm
_journal_page_first              10780
_journal_paper_doi               10.1039/C4CE01730G
_journal_volume                  16
_journal_year                    2014
_chemical_formula_moiety         'C20 H13 B1 F1 I1 N2 O1'
_chemical_formula_sum            'C20 H13 B F I N2 O'
_chemical_formula_weight         454.05
_space_group_IT_number           14
_symmetry_cell_setting           monoclinic
_symmetry_space_group_name_Hall  '-P 2yn'
_symmetry_space_group_name_H-M   'P 1 21/n 1'
_atom_sites_solution_hydrogens   difmap
_atom_sites_solution_primary     other
_audit_creation_date             12-09-11
_audit_creation_method           CRYSTALS_ver_14.40
_cell_angle_alpha                90
_cell_angle_beta                 90.396(8)
_cell_angle_gamma                90
_cell_formula_units_Z            4
_cell_length_a                   6.5502(4)
_cell_length_b                   14.1051(7)
_cell_length_c                   16.497(3)
_cell_measurement_reflns_used    2750
_cell_measurement_temperature    296
_cell_measurement_theta_max      25
_cell_measurement_theta_min      3
_cell_volume                     1524.1(3)
_computing_cell_refinement       'Apex2 (Bruker AXS, 2006)'
_computing_data_collection       'Apex2 (Bruker AXS, 2006)'
_computing_data_reduction        'Apex2 (Bruker AXS, 2006)'
_computing_molecular_graphics    'CAMERON (Watkin et al., 1996)'
_computing_publication_material  'CRYSTALS (Betteridge et al., 2003)'
_computing_structure_refinement  'CRYSTALS (Betteridge et al., 2003)'
_computing_structure_solution    'Superflip (Palatinus & Chapuis, 2007)'
_diffrn_ambient_pressure         2037080
_diffrn_ambient_temperature      296
_diffrn_measured_fraction_theta_full 0.382
_diffrn_measured_fraction_theta_max 0.382
_diffrn_measurement_device       Area
_diffrn_measurement_device_type  'Bruker Kappa Apex2'
_diffrn_measurement_method       ω
_diffrn_radiation_monochromator  graphite
_diffrn_radiation_type           'Mo K\a'
_diffrn_radiation_wavelength     0.71073
_diffrn_reflns_av_R_equivalents  0.040
_diffrn_reflns_limit_h_max       7
_diffrn_reflns_limit_h_min       -7
_diffrn_reflns_limit_k_max       16
_diffrn_reflns_limit_k_min       -16
_diffrn_reflns_limit_l_max       7
_diffrn_reflns_limit_l_min       -7
_diffrn_reflns_number            7648
_diffrn_reflns_theta_full        25.359
_diffrn_reflns_theta_max         25.359
_diffrn_reflns_theta_min         2.888
_diffrn_standards_number         0
_exptl_absorpt_coefficient_mu    2.125
_exptl_absorpt_correction_T_max  0.65
_exptl_absorpt_correction_T_min  0.57
_exptl_absorpt_correction_type   multi-scan
_exptl_absorpt_process_details   'SADABS (Siemens, 1996)'
_exptl_crystal_colour            green
_exptl_crystal_density_diffrn    1.979
_exptl_crystal_density_method    'not measured'
_exptl_crystal_description       block
_exptl_crystal_F_000             888
_exptl_crystal_size_max          0.250
_exptl_crystal_size_mid          0.200
_exptl_crystal_size_min          0.200
_refine_diff_density_max         0.36
_refine_diff_density_min         -0.26
_refine_ls_extinction_method     None
_refine_ls_goodness_of_fit_ref   0.9999
_refine_ls_hydrogen_treatment    constr
_refine_ls_matrix_type           full
_refine_ls_number_parameters     110
_refine_ls_number_reflns         869
_refine_ls_number_restraints     0
_refine_ls_R_factor_all          0.0467
_refine_ls_R_factor_gt           0.0326
_refine_ls_shift/su_max          0.0003926
_refine_ls_shift/su_mean         0.0000231
_refine_ls_structure_factor_coef F
_refine_ls_weighting_details
;
 Method, part 1, Chebychev polynomial, (Watkin, 1994, Prince, 1982) 
 [weight] = 1.0/[A₀*T₀(x)+A₁*T₁(x) ... +Aₙ₋₁]*Tₙ₋₁(x)] 
 where Ai are the Chebychev coefficients listed below and x= Fcalc/Fmax 
 Method = Robust Weighting (Prince, 1982) 
 W = [weight] * [1-(deltaF/6*sigmaF)²]² 
 Ai are: 
 0.321 0.171 0.175 
;
_refine_ls_weighting_scheme      calc
_refine_ls_wR_factor_all         0.0438
_refine_ls_wR_factor_gt          0.0348
_refine_ls_wR_factor_ref         0.0348
_reflns_limit_h_max              7
_reflns_limit_h_min              -7
_reflns_limit_k_max              16
_reflns_limit_k_min              0
_reflns_limit_l_max              7
_reflns_limit_l_min              0
_reflns_number_gt                869
_reflns_number_total             1067
_reflns_threshold_expression     I>2.0σ(I)
_oxford_diffrn_Wilson_B_factor   0.00
_oxford_diffrn_Wilson_scale      0.00
_oxford_refine_ls_r_factor_ref   0.0326
_oxford_refine_ls_scale          0.1127(3)
_oxford_reflns_number_all        1065
_oxford_reflns_threshold_expression_ref I>2.0\s(I)
_oxford_structure_analysis_title '1_P=2.04GPa in P2(1)/n'
_cod_data_source_file            c4ce01730g2.cif
_cod_data_source_block           1_P=2.04GPa
_cod_depositor_comments
;
The following automatic conversions were performed:

'_atom_sites_solution_primary' value 'Other' changed to 'other'
according to
/usr/data/users/saulius/crontab/automatic-downloads/rss-feeds/RSC/lib/dictionaries/cif_core.dic
dictionary named 'cif_core.dic' version 2.4.2 from 2011-04-26.

Automatic conversion script
Id: cif_fix_values 2827 2014-09-09 07:05:25Z andrius 

 Adding full bibliography for 7218311--7218317.cif.
;
_cod_original_sg_symbol_H-M      'P 1 21/n 1 '
_cod_original_formula_sum        'C20 H13 B1 F1 I1 N2 O1'
_cod_database_code               7218314
#BEGIN Tags that were not found in dictionaries:
_iucr_refine_instruction_details_constraints
;
BLOCK 
CONT SCALE 
CONT C    (    1 ,X'S,U[ISO])  UNTIL C    (   20 ) 
CONT I    (    1 ,X'S,U'S) 
CONT B    (    1 ,X'S,U[ISO])  UNTIL N    (    2 ) 
RIDE C   (   1,X'S) H   (   1,X'S) 
RIDE C   (   2,X'S) H   (   2,X'S) 
RIDE C   (   3,X'S) H   (   3,X'S) 
RIDE C   (   5,X'S) H   (   5,X'S) 
RIDE C   (   6,X'S) H   (   6,X'S) 
RIDE C   (   7,X'S) H   (   7,X'S) 
RIDE C   (  12,X'S) H   (  12,X'S) 
RIDE C   (  13,X'S) H   (  13,X'S) 
RIDE C   (  14,X'S) H   (  14,X'S) 
RIDE C   (  16,X'S) H   (  16,X'S) 
RIDE C   (  17,X'S) H   (  17,X'S) 
RIDE C   (  19,X'S) H   (  19,X'S) 
RIDE C   (  20,X'S) H   (  20,X'S) 
END                                                                             
;
_iucr_refine_instruction_details_restraints
;
NO 
END                                                                             
;
#END Tags that were not found in dictionaries
loop_
_symmetry_equiv_pos_as_xyz
x,y,z
-x,-y,-z
-x+1/2,y+1/2,-z+1/2
x+1/2,-y+1/2,z+1/2
loop_
_atom_site_label
_atom_site_type_symbol
_atom_site_fract_x
_atom_site_fract_y
_atom_site_fract_z
_atom_site_U_iso_or_equiv
_atom_site_occupancy
_atom_site_adp_type
_atom_site_refinement_flags_posn
H1 H 0.4944 0.8718 0.4009 0.0545 1.0000 Uiso R
H2 H 0.5590 0.8684 0.2657 0.0643 1.0000 Uiso R
H3 H 0.3482 0.7945 0.1763 0.0653 1.0000 Uiso R
H5 H -0.0082 0.7061 0.1562 0.0681 1.0000 Uiso R
H6 H -0.2809 0.6477 0.2237 0.0663 1.0000 Uiso R
H7 H -0.3206 0.6551 0.3584 0.0562 1.0000 Uiso R
H12 H -0.1860 0.8550 0.5533 0.0552 1.0000 Uiso R
H13 H -0.2314 0.9766 0.6424 0.0713 1.0000 Uiso R
H14 H 0.0400 1.0643 0.6837 0.0683 1.0000 Uiso R
H16 H 0.0779 0.6371 0.5899 0.0552 1.0000 Uiso R
H17 H 0.2709 0.5241 0.6519 0.0605 1.0000 Uiso R
H19 H 0.7533 0.6188 0.5379 0.0471 1.0000 Uiso R
H20 H 0.5643 0.7350 0.4804 0.0475 1.0000 Uiso R
C1 C 0.4083(11) 0.8432(4) 0.3662(11) 0.0224(16) 1.0000 Uiso .
C2 C 0.4477(11) 0.8393(4) 0.2841(11) 0.0275(18) 1.0000 Uiso .
C3 C 0.3206(11) 0.7952(4) 0.2290(10) 0.0339(18) 1.0000 Uiso .
C4 C 0.1381(11) 0.7556(4) 0.2569(11) 0.0242(17) 1.0000 Uiso .
C5 C -0.0170(12) 0.7100(5) 0.2103(11) 0.040(2) 1.0000 Uiso .
C6 C -0.1838(12) 0.6759(4) 0.2538(12) 0.0298(19) 1.0000 Uiso .
C7 C -0.2124(12) 0.6807(4) 0.3346(12) 0.0266(17) 1.0000 Uiso .
C8 C -0.0606(9) 0.7250(4) 0.3820(10) 0.0161(14) 1.0000 Uiso .
C9 C 0.1084(10) 0.7608(4) 0.3389(10) 0.0154(14) 1.0000 Uiso .
C10 C 0.2596(10) 0.9328(4) 0.5684(9) 0.0202(15) 1.0000 Uiso .
C11 C 0.1120(9) 0.8712(4) 0.5385(8) 0.0187(15) 1.0000 Uiso .
C12 C -0.0793(11) 0.8908(4) 0.5691(10) 0.0293(17) 1.0000 Uiso .
C13 C -0.1075(11) 0.9631(4) 0.6247(10) 0.0311(16) 1.0000 Uiso .
C14 C 0.0587(12) 1.0171(4) 0.6496(11) 0.036(2) 1.0000 Uiso .
C15 C 0.2926(10) 0.7005(4) 0.5269(9) 0.0195(15) 1.0000 Uiso .
C16 C 0.2112(10) 0.6337(4) 0.5799(9) 0.0216(15) 1.0000 Uiso .
C17 C 0.3295(11) 0.5652(4) 0.6179(10) 0.0270(17) 1.0000 Uiso .
C18 C 0.5330(10) 0.5616(4) 0.5989(9) 0.0199(15) 1.0000 Uiso .
C19 C 0.6193(10) 0.6235(4) 0.5480(9) 0.0238(16) 1.0000 Uiso .
C20 C 0.5017(10) 0.6936(4) 0.5133(9) 0.0240(15) 1.0000 Uiso .
I1 I 0.72455(7) 0.46094(3) 0.65466(6) 0.0355 1.0000 Uani .
B1 B 0.1521(12) 0.7796(4) 0.4828(11) 0.0218(17) 1.0000 Uiso .
O1 O -0.0519(7) 0.7378(3) 0.4617(7) 0.0236(12) 1.0000 Uiso .
N1 N 0.2383(8) 0.8020(3) 0.3948(7) 0.0202(12) 1.0000 Uiso .
F1 F 0.4554(6) 0.9177(3) 0.5410(5) 0.0337(10) 1.0000 Uiso .
N2 N 0.2436(8) 1.0031(4) 0.6198(7) 0.0266(13) 1.0000 Uiso .
loop_
_atom_site_aniso_label
_atom_site_aniso_U_11
_atom_site_aniso_U_22
_atom_site_aniso_U_33
_atom_site_aniso_U_23
_atom_site_aniso_U_13
_atom_site_aniso_U_12
I1 0.0334(3) 0.0208(2) 0.0523(15) 0.0023(3) -0.0069(4) 0.00522(17)
loop_
_atom_type_symbol
_atom_type_scat_dispersion_real
_atom_type_scat_dispersion_imag
_atom_type_scat_Cromer_Mann_a1
_atom_type_scat_Cromer_Mann_b1
_atom_type_scat_Cromer_Mann_a2
_atom_type_scat_Cromer_Mann_b2
_atom_type_scat_Cromer_Mann_a3
_atom_type_scat_Cromer_Mann_b3
_atom_type_scat_Cromer_Mann_a4
_atom_type_scat_Cromer_Mann_b4
_atom_type_scat_Cromer_Mann_c
_atom_type_scat_source
C 0.0033 0.0016 2.3100 20.8439 1.0200 10.2075 1.5886 0.5687 0.8650 51.6512
0.2156 'International Tables Vol C 4.2.6.8 and 6.1.1.4'
H 0.0000 0.0000 0.4930 10.5109 0.3229 26.1257 0.1402 3.1424 0.0408 57.7998
0.0030 'International Tables Vol C 4.2.6.8 and 6.1.1.4'
B 0.0013 0.0007 2.0545 23.2185 1.3326 1.0210 1.0979 60.3498 0.7068 0.1403
-0.1932 'International Tables Vol C 4.2.6.8 and 6.1.1.4'
N 0.0061 0.0033 12.2126 0.0057 3.1322 9.8933 2.0125 28.9975 1.1663 0.5826
-11.5290 'International Tables Vol C 4.2.6.8 and 6.1.1.4'
O 0.0106 0.0060 3.0485 13.2771 2.2868 5.7011 1.5463 0.3239 0.8670 32.9089
0.2508 'International Tables Vol C 4.2.6.8 and 6.1.1.4'
F 0.0171 0.0103 3.5392 10.2825 2.6412 4.2944 1.5170 0.2615 1.0243 26.1476
0.2776 'International Tables Vol C 4.2.6.8 and 6.1.1.4'
I -0.4742 1.8119 20.1472 4.3470 18.9949 0.3814 7.5138 27.7660 2.2735 66.8776
4.0712 'International Tables Vol C 4.2.6.8 and 6.1.1.4'
loop_
_geom_angle_atom_site_label_1
_geom_angle_atom_site_label_2
_geom_angle_atom_site_label_3
_geom_angle
_geom_angle_publ_flag
H1 C1 C2 121.6 no
H1 C1 N1 119.2 no
C2 C1 N1 119.2(11) yes
C1 C2 H2 118.3 no
C1 C2 C3 123.3(9) yes
H2 C2 C3 118.4 no
C2 C3 H3 121.6 no
C2 C3 C4 118.5(15) yes
H3 C3 C4 119.8 no
C3 C4 C5 127.6(16) yes
C3 C4 C9 115.5(11) yes
C5 C4 C9 116.9(10) yes
C4 C5 H5 121.0 no
C4 C5 C6 115.9(15) yes
H5 C5 C6 123.1 no
C5 C6 H6 114.9 no
C5 C6 C7 127.2(12) yes
H6 C6 C7 117.9 no
C6 C7 H7 122.1 no
C6 C7 C8 118.0(10) yes
H7 C7 C8 119.8 no
C7 C8 C9 115.6(16) yes
C7 C8 O1 129.5(11) yes
C9 C8 O1 114.9(9) yes
C8 C9 C4 126.5(11) yes
C8 C9 N1 107.2(14) yes
C4 C9 N1 126.3(8) yes
C11 C10 F1 115.7(9) yes
C11 C10 N2 130.2(8) yes
F1 C10 N2 114.1(6) yes
C10 C11 C12 112.1(9) yes
C10 C11 B1 126.2(6) yes
C12 C11 B1 121.4(6) yes
C11 C12 H12 119.2 no
C11 C12 C13 120.9(7) yes
H12 C12 C13 119.9 no
C12 C13 H13 120.2 no
C12 C13 C14 119.5(9) yes
H13 C13 C14 120.3 no
C13 C14 H14 119.4 no
C13 C14 N2 121.7(11) yes
H14 C14 N2 118.7 no
C16 C15 C20 115.8(8) yes
C16 C15 B1 122.0(7) yes
C20 C15 B1 122.2(9) yes
C15 C16 H16 117.3 no
C15 C16 C17 122.7(7) yes
H16 C16 C17 120.0 no
C16 C17 H17 119.5 no
C16 C17 C18 117.6(10) yes
H17 C17 C18 122.8 no
C17 C18 C19 122.2(8) yes
C17 C18 I1 120.2(8) yes
C19 C18 I1 117.5(5) yes
H19 C19 C18 119.1 no
H19 C19 C20 121.5 no
C18 C19 C20 119.5(7) yes
C15 C20 C19 122.1(10) yes
C15 C20 H20 120.4 no
C19 C20 H20 117.5 no
C15 B1 C11 113.0(12) yes
C15 B1 O1 109.6(5) yes
C11 B1 O1 107.5(6) yes
C15 B1 N1 110.1(7) yes
C11 B1 N1 115.0(7) yes
O1 B1 N1 100.9(11) yes
B1 O1 C8 108.3(9) yes
B1 N1 C9 107.7(8) yes
B1 N1 C1 134.9(11) yes
C9 N1 C1 117.2(13) yes
C14 N2 C10 115.5(7) yes
loop_
_geom_bond_atom_site_label_1
_geom_bond_atom_site_label_2
_geom_bond_distance
_geom_bond_publ_flag
H1 C1 0.897 no
H2 C2 0.891 no
H3 C3 0.888 no
H5 C5 0.897 no
H6 C6 0.897 no
H7 C7 0.889 no
H12 C12 0.899 no
H13 C13 0.885 no
H14 C14 0.881 no
H16 C16 0.891 no
H17 C17 0.895 no
H19 C19 0.896 no
H20 C20 0.898 no
C1 C2 1.381(19) yes
C1 N1 1.344(11) yes
C2 C3 1.378(17) yes
C3 C4 1.401(13) yes
C4 C5 1.423(16) yes
C4 C9 1.369(19) yes
C5 C6 1.397(16) yes
C6 C7 1.35(2) yes
C7 C8 1.407(17) yes
C8 C9 1.414(15) yes
C8 O1 1.329(16) yes
C9 N1 1.379(15) yes
C10 C11 1.388(10) yes
C10 F1 1.380(9) yes
C10 N2 1.310(14) yes
C11 C12 1.382(12) yes
C11 B1 1.608(15) yes
C12 C13 1.386(17) yes
C13 C14 1.388(12) yes
C14 N2 1.324(12) yes
C15 C16 1.394(15) yes
C15 C20 1.393(10) yes
C15 B1 1.617(12) yes
C16 C17 1.386(13) yes
C17 C18 1.372(11) yes
C18 C19 1.340(15) yes
C18 I1 2.102(9) yes
C19 C20 1.376(11) yes
B1 O1 1.499(10) yes
B1 N1 1.59(2) yes
loop_
_geom_hbond_atom_site_label_D
_geom_hbond_atom_site_label_H
_geom_hbond_atom_site_label_A
_geom_hbond_site_symmetry_A
_geom_hbond_angle_DHA
_geom_hbond_distance_DH
_geom_hbond_distance_HA
_geom_hbond_distance_DA
_geom_hbond_publ_flag
C1 H1 N2 2_676 131.5(5) 0.897 2.487 3.153(14) yes
C19 H19 O1 1_655 123.80(18) 0.896 2.459 3.050(14) yes
C20 H20 O1 1_655 122.7(3) 0.898 2.535 3.114(14) yes
#BEGIN Loops that were not found in dictionaries:
loop_
_oxford_refln_omitted_index_h
_oxford_refln_omitted_index_k
_oxford_refln_omitted_index_l
_oxford_refln_omitted_flag
-5 2 5 x
2 14 7 x
#END Loops that were not found in dictionaries
