#------------------------------------------------------------------------------
#$Date: 2016-03-26 23:11:40 +0200 (Sat, 26 Mar 2016) $
#$Revision: 180531 $
#$URL: svn://www.crystallography.net/cod/cif/7/22/00/7220022.cif $
#------------------------------------------------------------------------------
#
# This file is available in the Crystallography Open Database (COD),
# http://www.crystallography.net/
#
# All data on this site have been placed in the public domain by the
# contributors.
#
data_7220022
loop_
_publ_author_name
'Bujak, Maciej'
'Podsiadło, Marcin'
'Katrusiak, Andrzej'
_publ_section_title
;
 Relations between compression and thermal contraction in
 1,2,4-trichlorobenzene and melting of trichlorobenzene isomers
;
_journal_issue                   18
_journal_name_full               CrystEngComm
_journal_page_first              3446
_journal_paper_doi               10.1039/C4CE02289K
_journal_volume                  17
_journal_year                    2015
_chemical_formula_moiety         'C6 H3 Cl3'
_chemical_formula_sum            'C6 H3 Cl3'
_chemical_formula_weight         181.43
_chemical_melting_point          290.07
_chemical_name_systematic
; 
 1,2,4-trichlorobenzene 
;
_space_group_IT_number           14
_symmetry_cell_setting           monoclinic
_symmetry_space_group_name_Hall  '-P 2yn'
_symmetry_space_group_name_H-M   'P 1 21/n 1'
_atom_sites_solution_hydrogens   difmap
_atom_sites_solution_primary     direct
_atom_sites_solution_secondary   difmap
_audit_creation_method           SHELXL-97
_audit_update_record
;
2015-02-23 deposited with the CCDC.
2015-03-27 downloaded from the CCDC.
;
_cell_angle_alpha                90.00
_cell_angle_beta                 93.76(6)
_cell_angle_gamma                90.00
_cell_formula_units_Z            8
_cell_length_a                   3.7825(7)
_cell_length_b                   26.378(3)
_cell_length_c                   13.71(4)
_cell_measurement_reflns_used    2420
_cell_measurement_temperature    295(2)
_cell_measurement_theta_max      29.34
_cell_measurement_theta_min      2.75
_cell_volume                     1365(4)
_computing_cell_refinement       'CrysAlisPro (Agilent Technologies, 2010)'
_computing_data_collection       'CrysAlisCCD (Oxford Diffraction, 2009)'
_computing_data_reduction
'CrysAlisPro (Agilent Technologies, 2010); REDSHABS (Katrusiak, A., 2003)'
_computing_molecular_graphics    'Mercury (Macrae at al., 2008)'
_computing_publication_material  'SHELXL-97 (Sheldrick, 2008)'
_computing_structure_refinement  'SHELXL-97 (Sheldrick, 2008)'
_computing_structure_solution    'SHELXS-97 (Sheldrick, 2008)'
_diffrn_ambient_environment      'diamond-anvil cell'
_diffrn_ambient_pressure         640000
_diffrn_ambient_temperature      295(2)
_diffrn_detector_area_resol_mean 8.1929
_diffrn_measured_fraction_theta_full 0.219
_diffrn_measured_fraction_theta_max 0.219
_diffrn_measurement_device_type  'KUMA KM-4 CCD'
_diffrn_measurement_method       'φ- and ω-scans'
_diffrn_radiation_monochromator  graphite
_diffrn_radiation_source         'fine-focus sealed tube'
_diffrn_radiation_type           MoK\a
_diffrn_radiation_wavelength     0.71073
_diffrn_reflns_av_R_equivalents  0.1388
_diffrn_reflns_av_sigmaI/netI    0.0472
_diffrn_reflns_limit_h_max       4
_diffrn_reflns_limit_h_min       -4
_diffrn_reflns_limit_k_max       31
_diffrn_reflns_limit_k_min       -31
_diffrn_reflns_limit_l_max       3
_diffrn_reflns_limit_l_min       -3
_diffrn_reflns_number            6941
_diffrn_reflns_theta_full        24.94
_diffrn_reflns_theta_max         24.94
_diffrn_reflns_theta_min         3.09
_exptl_absorpt_coefficient_mu    1.234
_exptl_absorpt_correction_T_max  0.72
_exptl_absorpt_correction_T_min  0.38
_exptl_absorpt_correction_type   numerical
_exptl_absorpt_process_details
; 
 Correction for absorption of the diamond-anvil cell and the sample 
 were made using program REDSHABS (Katrusiak, A. (2003) REDSHABS. Adam
 Mickiewicz University Poznań; Katrusiak, A. (2004) Z. Kristallogr.
 219, 461-467).
;
_exptl_crystal_colour            colourless
_exptl_crystal_density_diffrn    1.766
_exptl_crystal_density_method    'not measured'
_exptl_crystal_description       disc
_exptl_crystal_F_000             720
_exptl_crystal_size_max          0.40
_exptl_crystal_size_mid          0.40
_exptl_crystal_size_min          0.24
_refine_diff_density_max         0.560
_refine_diff_density_min         -0.528
_refine_diff_density_rms         0.128
_refine_ls_extinction_method     none
_refine_ls_goodness_of_fit_ref   1.446
_refine_ls_hydrogen_treatment    constr
_refine_ls_matrix_type           full
_refine_ls_number_parameters     103
_refine_ls_number_reflns         528
_refine_ls_number_restraints     56
_refine_ls_restrained_S_all      1.423
_refine_ls_R_factor_all          0.1279
_refine_ls_R_factor_gt           0.1112
_refine_ls_shift/su_max          0.000
_refine_ls_shift/su_mean         0.000
_refine_ls_structure_factor_coef Fsqd
_refine_ls_weighting_details
; 
 calc w=1/[σ\^2\^(Fo\^2\^)+(0.1876P)\^2\^+0.0000P] where
 P=(Fo\^2\^+2Fc\^2\^)/3
;
_refine_ls_weighting_scheme      calc
_refine_ls_wR_factor_gt          0.2840
_refine_ls_wR_factor_ref         0.3072
_reflns_number_gt                434
_reflns_number_total             528
_reflns_threshold_expression     >2sigma(I)
_cod_data_source_file            c4ce02289k2.cif
_cod_data_source_block           124TCB_0.64GPa
_cod_depositor_comments
'Adding full bibliography for 7220019--7220022.cif.'
_cod_original_sg_symbol_H-M      'P 21/n'
_cod_database_code               7220022
loop_
_symmetry_equiv_pos_as_xyz
'x, y, z'
'-x+1/2, y+1/2, -z+1/2'
'-x, -y, -z'
'x-1/2, -y-1/2, z-1/2'
loop_
_atom_site_label
_atom_site_type_symbol
_atom_site_fract_x
_atom_site_fract_y
_atom_site_fract_z
_atom_site_U_iso_or_equiv
_atom_site_adp_type
_atom_site_occupancy
_atom_site_symmetry_multiplicity
_atom_site_calc_flag
_atom_site_refinement_flags
Cl11 Cl 0.7152(10) -0.03676(15) 0.1295(13) 0.064(5) Uani 1 1 d U
Cl12 Cl 0.8492(10) -0.05121(12) 0.3622(13) 0.061(5) Uani 1 1 d U
Cl14 Cl 0.3141(10) 0.13249(13) 0.4200(12) 0.061(4) Uani 1 1 d U
C11 C 0.588(3) 0.0091(4) 0.216(2) 0.022(3) Uiso 1 1 d D
C12 C 0.677(3) 0.0038(4) 0.314(2) 0.025(3) Uiso 1 1 d D
C13 C 0.583(3) 0.0418(4) 0.375(3) 0.043(4) Uiso 1 1 d D
H13 H 0.6179 0.0378 0.4425 0.051 Uiso 1 1 calc R
C14 C 0.439(3) 0.0858(4) 0.338(2) 0.030(4) Uiso 1 1 d D
C15 C 0.357(3) 0.0907(4) 0.240(2) 0.026(4) Uiso 1 1 d D
H15 H 0.2416 0.1196 0.2153 0.031 Uiso 1 1 calc R
C16 C 0.446(3) 0.0529(4) 0.178(3) 0.043(4) Uiso 1 1 d D
H16 H 0.4109 0.0570 0.1109 0.052 Uiso 1 1 calc R
Cl21 Cl 0.7143(10) 0.21743(14) 0.1816(12) 0.055(4) Uani 1 1 d U
Cl22 Cl 0.3344(10) 0.32139(14) 0.1243(12) 0.060(4) Uani 1 1 d U
Cl24 Cl 0.3664(10) 0.37251(12) 0.5075(13) 0.058(4) Uani 1 1 d U
C21 C 0.613(4) 0.2611(4) 0.274(4) 0.039(4) Uiso 1 1 d D
C22 C 0.457(3) 0.3063(5) 0.252(4) 0.036(4) Uiso 1 1 d D
C23 C 0.384(3) 0.3403(5) 0.322(3) 0.029(3) Uiso 1 1 d D
H23 H 0.2732 0.3708 0.3057 0.035 Uiso 1 1 calc R
C24 C 0.476(3) 0.3291(4) 0.417(3) 0.039(4) Uiso 1 1 d D
C25 C 0.632(3) 0.2851(4) 0.448(4) 0.044(4) Uiso 1 1 d D
H25 H 0.6813 0.2781 0.5139 0.053 Uiso 1 1 calc R
C26 C 0.712(3) 0.2518(5) 0.377(3) 0.036(4) Uiso 1 1 d D
H26 H 0.8324 0.2221 0.3950 0.043 Uiso 1 1 calc R
loop_
_atom_site_aniso_label
_atom_site_aniso_U_11
_atom_site_aniso_U_22
_atom_site_aniso_U_33
_atom_site_aniso_U_23
_atom_site_aniso_U_13
_atom_site_aniso_U_12
Cl11 0.074(2) 0.050(2) 0.069(13) -0.002(6) 0.007(6) 0.0037(17)
Cl12 0.076(2) 0.038(2) 0.069(13) 0.017(5) 0.001(5) 0.0108(14)
Cl14 0.071(2) 0.038(2) 0.075(13) -0.012(5) 0.011(5) 0.0034(14)
Cl21 0.064(2) 0.041(2) 0.064(13) -0.009(5) 0.030(5) 0.0001(14)
Cl22 0.071(2) 0.044(2) 0.065(13) 0.006(6) 0.012(6) -0.0046(16)
Cl24 0.067(2) 0.044(2) 0.064(13) -0.012(6) 0.015(5) -0.0014(14)
loop_
_atom_type_symbol
_atom_type_description
_atom_type_scat_dispersion_real
_atom_type_scat_dispersion_imag
_atom_type_scat_source
C C 0.0033 0.0016 'International Tables Vol C Tables 4.2.6.8 and 6.1.1.4'
H H 0.0000 0.0000 'International Tables Vol C Tables 4.2.6.8 and 6.1.1.4'
Cl Cl 0.1484 0.1585 'International Tables Vol C Tables 4.2.6.8 and 6.1.1.4'
loop_
_geom_angle_atom_site_label_1
_geom_angle_atom_site_label_2
_geom_angle_atom_site_label_3
_geom_angle
C16 C11 C12 122(2)
C16 C11 Cl11 116(2)
C12 C11 Cl11 121.6(11)
C11 C12 C13 117.9(18)
C11 C12 Cl12 122.0(13)
C13 C12 Cl12 119.6(18)
C14 C13 C12 120(3)
C14 C13 H13 119.8
C12 C13 H13 119.8
C15 C14 C13 121(2)
C15 C14 Cl14 120.8(10)
C13 C14 Cl14 118(2)
C16 C15 C14 119.4(18)
C16 C15 H15 120.3
C14 C15 H15 120.3
C15 C16 C11 119(3)
C15 C16 H16 120.3
C11 C16 H16 120.3
C22 C21 C26 116(4)
C22 C21 Cl21 122(4)
C26 C21 Cl21 121.9(11)
C21 C22 C23 122(4)
C21 C22 Cl22 119(4)
C23 C22 Cl22 119.2(12)
C24 C23 C22 119.1(17)
C24 C23 H23 120.4
C22 C23 H23 120.4
C23 C24 C25 124(2)
C23 C24 Cl24 118.5(11)
C25 C24 Cl24 117(2)
C26 C25 C24 116(2)
C26 C25 H25 121.8
C24 C25 H25 121.8
C25 C26 C21 121.9(17)
C25 C26 H26 119.1
C21 C26 H26 119.1
loop_
_geom_bond_atom_site_label_1
_geom_bond_atom_site_label_2
_geom_bond_distance
Cl11 C11 1.78(3)
Cl12 C12 1.71(2)
Cl14 C14 1.75(3)
C11 C16 1.36(2)
C11 C12 1.367(19)
C12 C13 1.370(19)
C13 C14 1.367(17)
C13 H13 0.9300
C14 C15 1.365(19)
C15 C16 1.363(18)
C15 H15 0.9300
C16 H16 0.9300
Cl21 C21 1.77(5)
Cl22 C22 1.83(5)
Cl24 C24 1.76(3)
C21 C22 1.355(16)
C21 C26 1.46(7)
C22 C23 1.355(17)
C23 C24 1.354(17)
C23 H23 0.9300
C24 C25 1.357(16)
C25 C26 1.355(17)
C25 H25 0.9300
C26 H26 0.9300
loop_
_geom_torsion_atom_site_label_1
_geom_torsion_atom_site_label_2
_geom_torsion_atom_site_label_3
_geom_torsion_atom_site_label_4
_geom_torsion
C16 C11 C12 C13 7.3(17)
Cl11 C11 C12 C13 177.1(9)
C16 C11 C12 Cl12 179.1(10)
Cl11 C11 C12 Cl12 -11.1(16)
C11 C12 C13 C14 -6.7(16)
Cl12 C12 C13 C14 -178.8(9)
C12 C13 C14 C15 5.8(17)
C12 C13 C14 Cl14 178.5(9)
C13 C14 C15 C16 -5.2(19)
Cl14 C14 C15 C16 -177.7(9)
C14 C15 C16 C11 5.6(18)
C12 C11 C16 C15 -6.8(16)
Cl11 C11 C16 C15 -177.1(9)
C26 C21 C22 C23 -2(2)
Cl21 C21 C22 C23 -178.8(10)
C26 C21 C22 Cl22 178.7(13)
Cl21 C21 C22 Cl22 2.2(19)
C21 C22 C23 C24 1(2)
Cl22 C22 C23 C24 -179.8(12)
C22 C23 C24 C25 -2(2)
C22 C23 C24 Cl24 -177.8(9)
C23 C24 C25 C26 3.0(19)
Cl24 C24 C25 C26 179.3(10)
C24 C25 C26 C21 -4.2(18)
C22 C21 C26 C25 4(2)
Cl21 C21 C26 C25 -179.6(10)
