#------------------------------------------------------------------------------
#$Date: 2016-02-13 21:28:24 +0200 (Sat, 13 Feb 2016) $
#$Revision: 176429 $
#$URL: svn://www.crystallography.net/cod/cif/7/22/36/7223666.cif $
#------------------------------------------------------------------------------
#
# This file is available in the Crystallography Open Database (COD),
# http://www.crystallography.net/
#
# All data on this site have been placed in the public domain by the
# contributors.
#
data_7223666
loop_
_publ_author_name
'Wortmann, R.'
'Sitta, S.'
'Sabrowsky, H.'
_publ_section_title
;
 Li7O2Br3 - Eine weitere Strukturvariante der neuen
 Alkalimetallchalcogenidhalogenid-Perowskite
;
_journal_name_full
;
Zeitschrift fuer Naturforschung, Teil B. Anorganische Chemie, Organische 
Chemie (42,1987-)
;
_journal_page_first              1348
_journal_page_last               1350
_journal_volume                  44
_journal_year                    1989
_chemical_formula_sum            'Br Li3 O'
_chemical_name_systematic        'Li3 O Br'
_space_group_IT_number           221
_symmetry_space_group_name_Hall  '-P 4 2 3'
_symmetry_space_group_name_H-M   'P m -3 m'
_cell_angle_alpha                90
_cell_angle_beta                 90
_cell_angle_gamma                90
_cell_formula_units_Z            1
_cell_length_a                   4.056
_cell_length_b                   4.056
_cell_length_c                   4.056
_cell_volume                     66.726
_citation_journal_id_ASTM        ZNBSEN
_cod_data_source_file            Wortmann_ZNBSEN_1989_1980.cif
_cod_data_source_block           Br1Li3O1
_cod_original_cell_volume        66.72582
_cod_original_formula_sum        'Br1 Li3 O1'
_cod_database_code               7223666
loop_
_symmetry_equiv_pos_as_xyz
x,y,z
-y,x,z
-x,-y,z
y,-x,z
x,-y,-z
y,x,-z
-x,y,-z
-y,-x,-z
z,x,y
-x,z,y
-z,-x,y
x,-z,y
z,-x,-y
x,z,-y
-z,x,-y
-x,-z,-y
y,z,x
y,-z,-x
z,y,-x
-y,z,-x
-z,-y,-x
-y,-z,x
z,-y,x
-z,y,x
-x,-y,-z
y,-x,-z
x,y,-z
-y,x,-z
-x,y,z
-y,-x,z
x,-y,z
y,x,z
-z,-x,-y
x,-z,-y
z,x,-y
-x,z,-y
-z,x,y
-x,-z,y
z,-x,y
x,z,y
-y,-z,-x
-y,z,x
-z,-y,x
y,-z,x
z,y,x
y,z,-x
-z,y,-x
z,-y,-x
loop_
_atom_site_label
_atom_site_type_symbol
_atom_site_fract_x
_atom_site_fract_y
_atom_site_fract_z
_atom_site_occupancy
_atom_site_U_iso_or_equiv
Li1 Li+1 0.5 0 0 1 0.0
Br1 Br-1 0.5 0.5 0.5 1 0.0
O1 O-2 0 0 0 1 0.0
