#------------------------------------------------------------------------------
#$Date: 2017-01-09 05:02:49 +0200 (Mon, 09 Jan 2017) $
#$Revision: 190064 $
#$URL: file:///home/coder/svn-repositories/cod/cif/7/22/68/7226834.cif $
#------------------------------------------------------------------------------
#
# This file is available in the Crystallography Open Database (COD),
# http://www.crystallography.net/
#
# All data on this site have been placed in the public domain by the
# contributors.
#
data_7226834
loop_
_publ_author_name
'Collings, Ines E.'
'Bykov, Maxim'
'Bykova, Elena'
'Tucker, Matthew G.'
'Petitgirard, Sylvain'
'Hanfland, Michael'
'Glazyrin, Konstantin'
'van Smaalen, Sander'
'Goodwin, Andrew L.'
'Dubrovinsky, Leonid'
'Dubrovinskaia, Natalia'
_publ_section_title
;
 Structural distortions in the high-pressure polar phases of ammonium
 metal formates
;
_journal_issue                   46
_journal_name_full               CrystEngComm
_journal_page_first              8849
_journal_paper_doi               10.1039/C6CE01891B
_journal_volume                  18
_journal_year                    2016
_chemical_formula_sum            'C3 H7 N Ni O6'
_chemical_formula_weight         211.81
_chemical_name_systematic        'ammonium nickel formate'
_space_group_crystal_system      hexagonal
_space_group_IT_number           182
_space_group_name_Hall           'P 6c 2c'
_space_group_name_H-M_alt        'P 63 2 2'
_symmetry_space_group_name_Hall  'P 6c 2c'
_symmetry_space_group_name_H-M   'P 63 2 2'
_atom_sites_solution_hydrogens   mixed
_audit_creation_method           SHELXL-2014
_audit_update_record
;
2016-08-29 deposited with the CCDC.
2016-10-19 downloaded from the CCDC.
;
_cell_angle_alpha                90
_cell_angle_beta                 90
_cell_angle_gamma                120
_cell_formula_units_Z            2
_cell_length_a                   7.28640(16)
_cell_length_b                   7.28640(16)
_cell_length_c                   8.05248(18)
_cell_measurement_reflns_used    3020
_cell_measurement_temperature    293(2)
_cell_measurement_theta_max      28.7780
_cell_measurement_theta_min      3.2070
_cell_volume                     370.243(14)
_computing_cell_refinement
;
CrysAlisPro, Agilent Technologies,
Version 1.171.37.35 (release 13-08-2014 CrysAlis171 .NET)
(compiled Aug 13 2014,18:06:01)
;
_computing_data_reduction
;
CrysAlisPro, Agilent Technologies,
Version 1.171.37.35 (release 13-08-2014 CrysAlis171 .NET)
(compiled Aug 13 2014,18:06:01)
;
_computing_structure_refinement  'SHELXL-2014 (Sheldrick, 2014)'
_computing_structure_solution    'SHELX (Sheldrick, 2007)'
_diffrn_ambient_temperature      293(2)
_diffrn_measured_fraction_theta_full 1.000
_diffrn_measured_fraction_theta_max 1.000
_diffrn_measurement_device_type  MAR345dbt
_diffrn_measurement_method       'Phi scans'
_diffrn_radiation_type           MoK\a
_diffrn_radiation_wavelength     0.71073
_diffrn_reflns_av_R_equivalents  0.0651
_diffrn_reflns_av_unetI/netI     0.0175
_diffrn_reflns_Laue_measured_fraction_full 1.000
_diffrn_reflns_Laue_measured_fraction_max 1.000
_diffrn_reflns_limit_h_max       10
_diffrn_reflns_limit_h_min       -10
_diffrn_reflns_limit_k_max       10
_diffrn_reflns_limit_k_min       -10
_diffrn_reflns_limit_l_max       11
_diffrn_reflns_limit_l_min       -11
_diffrn_reflns_number            7581
_diffrn_reflns_point_group_measured_fraction_full 1.000
_diffrn_reflns_point_group_measured_fraction_max 1.000
_diffrn_reflns_theta_full        25.242
_diffrn_reflns_theta_max         29.771
_diffrn_reflns_theta_min         3.228
_diffrn_source                   'rotating anode'
_exptl_absorpt_coefficient_mu    2.606
_exptl_absorpt_correction_T_max  1.00000
_exptl_absorpt_correction_T_min  0.92168
_exptl_absorpt_correction_type   multi-scan
_exptl_absorpt_process_details
;
CrysAlisPro, Agilent Technologies,
Version 1.171.37.35 (release 13-08-2014 CrysAlis171 .NET)
(compiled Aug 13 2014,18:06:01)
Empirical absorption correction using spherical harmonics,
 implemented in SCALE3 ABSPACK scaling algorithm.
;
_exptl_crystal_colour            green
_exptl_crystal_density_diffrn    1.900
_exptl_crystal_description       'hexagonal bipyramid'
_exptl_crystal_F_000             216
_exptl_crystal_size_max          0.100
_exptl_crystal_size_mid          0.100
_exptl_crystal_size_min          0.100
_refine_diff_density_max         0.188
_refine_diff_density_min         -0.209
_refine_diff_density_rms         0.051
_refine_ls_abs_structure_details
;
 Flack x determined using 97 quotients [(I+)-(I-)]/[(I+)+(I-)]
 (Parsons, Flack and Wagner, Acta Cryst. B69 (2013) 249-259).
;
_refine_ls_abs_structure_Flack   0.008(16)
_refine_ls_extinction_method     none
_refine_ls_goodness_of_fit_ref   1.169
_refine_ls_hydrogen_treatment    mixed
_refine_ls_matrix_type           full
_refine_ls_number_parameters     22
_refine_ls_number_reflns         361
_refine_ls_number_restraints     1
_refine_ls_restrained_S_all      1.173
_refine_ls_R_factor_all          0.0257
_refine_ls_R_factor_gt           0.0210
_refine_ls_shift/su_max          0.000
_refine_ls_shift/su_mean         0.000
_refine_ls_structure_factor_coef Fsqd
_refine_ls_weighting_details
'w=1/[σ²(Fo²)+(0.0206P)²+0.0925P] where P=(Fo²+2Fc²)/3'
_refine_ls_weighting_scheme      calc
_refine_ls_wR_factor_gt          0.0448
_refine_ls_wR_factor_ref         0.0455
_reflns_Friedel_coverage         0.438
_reflns_Friedel_fraction_full    1.000
_reflns_Friedel_fraction_max     1.000
_reflns_number_gt                330
_reflns_number_total             361
_reflns_threshold_expression     'I > 2σ(I)'
_cod_data_source_file            c6ce01891b2.cif
_cod_data_source_block           ANiF_ambient
_cod_depositor_comments
'Adding full bibliography for 7226831--7226836.cif.'
_cod_original_cell_volume        370.242(19)
_cod_database_code               7226834
_shelx_space_group_comment
;
The symmetry employed for this shelxl refinement is uniquely defined
by the following loop, which should always be used as a source of
symmetry information in preference to the above space-group names.
They are only intended as comments.
;
_shelxl_version_number           2014-3
_shelx_res_file
;
TITL NH4Ni60sec_run_c2_test1 in P6(3)22
REM P6(3)22 (#182 in standard setting)
CELL 0.71073   7.286402   7.286402   8.052479  90.0000  90.0000 120.0000
ZERR    2.00   0.000164   0.000164   0.000180   0.0000   0.0000   0.0000
LATT -1
SYMM -y, x-y, z
SYMM -x+y,-x, z
SYMM -x,-y, z+1/2
SYMM  y,-x+y, z+1/2
SYMM  x-y, x, z+1/2
SYMM  y, x,-z
SYMM  x-y,-y,-z
SYMM -x,-x+y,-z
SYMM -y,-x,-z+1/2
SYMM -x+y, y,-z+1/2
SYMM  x, x-y,-z+1/2
SFAC NI C H O N
UNIT 2.000 6 14 12 2.000
LIST 4 ! automatically inserted. Change 6 to 4 for CHECKCIF!!
ACTA
L.S. 4
BOND
FMAP 2
PLAN 20

WGHT    0.020600    0.092500
FVAR       1.01164
MOLE   1
NI1   1    0.666667    0.333333    0.250000    10.16667    0.01648    0.01648 =
         0.01082    0.00000    0.00000    0.00824
O1    4    0.691090    0.111615    0.106133    11.00000    0.02784    0.02462 =
         0.02192   -0.01053   -0.00758    0.01416
N1    5    0.000000    0.000000    0.250000    10.16667    0.03599    0.03599 =
         0.10376    0.00000    0.00000    0.01799
DFIX 0.85 0.01 N1 H1
H1    3   -0.027464    0.077251    0.316253    10.66667   -1.50000
C1    2    0.557958    0.000000    0.000000    10.50000    0.02350    0.02898 =
         0.03356   -0.01325   -0.00663    0.01449
AFIX  43
H2    3    0.430323    0.000001   -0.000001    10.50000   -1.50000
REM #####
AFIX   0
HKLF 4

REM  NH4Ni60sec_run_c2_test1 in P6(3)22
REM R1 =  0.0210 for     330 Fo > 4sig(Fo)  and  0.0257 for all     361 data
REM     22 parameters refined using      0 restraints

END

WGHT      0.0200      0.0909

REM Highest difference peak  0.188,  deepest hole -0.209,  1-sigma level  0.051
Q1    1   0.7394  0.1147  0.0301  11.00000  0.05    0.19
Q2    1   0.7223  0.2454  0.1358  11.00000  0.05    0.16
Q3    1   0.3534 -0.0670  0.0981  11.00000  0.05    0.16
Q4    1   0.7409  0.0620  0.1311  11.00000  0.05    0.14
Q5    1   0.5753  0.1036  0.1949  11.00000  0.05    0.14
Q6    1   0.8608  0.1393  0.0596  11.00000  0.05    0.14
Q7    1   0.4826 -0.1421  0.1241  11.00000  0.05    0.13
Q8    1   0.6577  0.1359  0.1731  11.00000  0.05    0.13
Q9    1  -0.0221  0.1793  0.3188  11.00000  0.05    0.13
Q10   1   0.6156  0.2008  0.1296  11.00000  0.05    0.13
Q11   1   0.2423 -0.2054  0.1376  11.00000  0.05    0.12
Q12   1   0.3618 -0.1426  0.1290  11.00000  0.05    0.12
Q13   1   0.3688  0.1349  0.0178  11.00000  0.05    0.11
Q14   1   0.7960  0.1593  0.1174  11.00000  0.05    0.11
Q15   1   0.6162  0.2323  0.2500  10.50000  0.05    0.11
Q16   1   0.2842 -0.0748  0.1900  11.00000  0.05    0.11
Q17   1   0.2403 -0.1719  0.0365  11.00000  0.05    0.11
Q18   1   0.0925  0.2185  0.4593  11.00000  0.05    0.11
Q19   1   0.8238  0.1762  0.2500  10.50000  0.05    0.10
Q20   1  -0.0700  0.0700  0.2500  10.50000  0.05    0.10
;
_shelx_res_checksum              50426
loop_
_space_group_symop_operation_xyz
'x, y, z'
'-y, x-y, z'
'-x+y, -x, z'
'-x, -y, z+1/2'
'y, -x+y, z+1/2'
'x-y, x, z+1/2'
'y, x, -z'
'x-y, -y, -z'
'-x, -x+y, -z'
'-y, -x, -z+1/2'
'-x+y, y, -z+1/2'
'x, x-y, -z+1/2'
loop_
_atom_site_label
_atom_site_type_symbol
_atom_site_fract_x
_atom_site_fract_y
_atom_site_fract_z
_atom_site_U_iso_or_equiv
_atom_site_adp_type
_atom_site_occupancy
_atom_site_site_symmetry_order
_atom_site_calc_flag
_atom_site_refinement_flags_posn
_atom_site_refinement_flags_adp
_atom_site_refinement_flags_occupancy
Ni1 Ni 0.6667 0.3333 0.2500 0.01459(17) Uani 1 6 d S T P
O1 O 0.6911(2) 0.1116(2) 0.10613(16) 0.0243(4) Uani 1 1 d . . .
N1 N 0.0000 0.0000 0.2500 0.0586(18) Uani 1 6 d DS T P
H1 H -0.027(13) 0.077(10) 0.316(4) 0.088 Uiso 0.6667 1 d D U P
C1 C 0.5580(5) 0.0000 0.0000 0.0281(8) Uani 1 2 d S T P
H2 H 0.4303 0.0000 0.0000 0.042 Uiso 1 2 calc R U P
loop_
_atom_site_aniso_label
_atom_site_aniso_U_11
_atom_site_aniso_U_22
_atom_site_aniso_U_33
_atom_site_aniso_U_23
_atom_site_aniso_U_13
_atom_site_aniso_U_12
Ni1 0.0165(2) 0.0165(2) 0.0108(2) 0.000 0.000 0.00824(10)
O1 0.0278(9) 0.0246(8) 0.0219(7) -0.0105(7) -0.0076(8) 0.0142(8)
N1 0.0360(19) 0.0360(19) 0.104(6) 0.000 0.000 0.0180(10)
C1 0.0235(12) 0.0290(17) 0.0336(16) -0.0133(16) -0.0066(8) 0.0145(9)
loop_
_atom_type_symbol
_atom_type_description
_atom_type_scat_dispersion_real
_atom_type_scat_dispersion_imag
_atom_type_scat_source
Ni Ni 0.3393 1.1124 'International Tables Vol C Tables 4.2.6.8 and 6.1.1.4'
C C 0.0033 0.0016 'International Tables Vol C Tables 4.2.6.8 and 6.1.1.4'
H H 0.0000 0.0000 'International Tables Vol C Tables 4.2.6.8 and 6.1.1.4'
O O 0.0106 0.0060 'International Tables Vol C Tables 4.2.6.8 and 6.1.1.4'
N N 0.0061 0.0033 'International Tables Vol C Tables 4.2.6.8 and 6.1.1.4'
loop_
_geom_angle_atom_site_label_1
_geom_angle_atom_site_label_2
_geom_angle_atom_site_label_3
_geom_angle
_geom_angle_site_symmetry_1
_geom_angle_site_symmetry_3
O1 Ni1 O1 82.55(8) 10_665 .
O1 Ni1 O1 91.64(5) 10_665 11_655
O1 Ni1 O1 94.79(8) . 11_655
O1 Ni1 O1 94.79(8) 10_665 2_655
O1 Ni1 O1 91.64(5) . 2_655
O1 Ni1 O1 171.45(9) 11_655 2_655
O1 Ni1 O1 91.64(5) 10_665 12
O1 Ni1 O1 171.45(9) . 12
O1 Ni1 O1 91.64(5) 11_655 12
O1 Ni1 O1 82.55(8) 2_655 12
O1 Ni1 O1 171.45(9) 10_665 3_665
O1 Ni1 O1 91.64(5) . 3_665
O1 Ni1 O1 82.55(8) 11_655 3_665
O1 Ni1 O1 91.64(5) 2_655 3_665
O1 Ni1 O1 94.79(8) 12 3_665
C1 O1 Ni1 123.57(18) . .
O1 C1 O1 126.1(3) . 8
loop_
_geom_bond_atom_site_label_1
_geom_bond_atom_site_label_2
_geom_bond_distance
_geom_bond_site_symmetry_2
Ni1 O1 2.0667(14) 10_665
Ni1 O1 2.0667(14) .
Ni1 O1 2.0667(14) 11_655
Ni1 O1 2.0667(14) 2_655
Ni1 O1 2.0667(14) 12
Ni1 O1 2.0667(14) 3_665
O1 C1 1.243(2) .
C1 O1 1.243(2) 8
