#------------------------------------------------------------------------------
#$Date: 2024-05-05 05:50:17 +0300 (Sun, 05 May 2024) $
#$Revision: 291625 $
#$URL: file:///home/coder/svn-repositories/cod/cif/7/71/55/7715587.cif $
#------------------------------------------------------------------------------
#
# This file is available in the Crystallography Open Database (COD),
# http://www.crystallography.net/
#
# All data on this site have been placed in the public domain by the
# contributors.
#
data_7715587
loop_
_publ_author_name
'Mączka, Mirosław'
'Sobczak, Szymon'
'Ptak, Maciej'
'Smółka, Szymon'
'Fedoruk, Katarzyna'
'Dybała, Filip'
'Herman, Artur P.'
'Paraguassu, Waldeci'
'Zaręba, Jan K'
'Kudrawiec, Robert'
'Sieradzki, Adam'
'Katrusiak, Andrzej'
_publ_section_title
;
 Revisiting a (001)-oriented layered lead chloride templated by
 1,2,4-triazolium: structural phase transitions, lattice dynamics and
 broadband photoluminescence.
;
_journal_issue                   16
_journal_name_full
'Dalton transactions (Cambridge, England : 2003)'
_journal_page_first              6906
_journal_page_last               6919
_journal_paper_doi               10.1039/d4dt00406j
_journal_volume                  53
_journal_year                    2024
_chemical_formula_moiety         'Cl4 Pb, 2(C2 H4 N3)'
_chemical_formula_sum            'C4 H8 Cl4 N6 Pb'
_chemical_formula_weight         489.15
_chemical_name_systematic        Tz2PbCl4
_space_group_crystal_system      monoclinic
_space_group_IT_number           14
_space_group_name_Hall           '-P 2ybc'
_space_group_name_H-M_alt        'P 1 21/c 1'
_atom_sites_solution_hydrogens   geom
_audit_creation_date             2023-12-15
_audit_creation_method
;
Olex2 1.5
(compiled 2023.08.24 svn.re1ec1418 for OlexSys, GUI svn.r6817)
;
_audit_update_record
;
2024-03-04 deposited with the CCDC.	2024-03-21 downloaded from the CCDC.
;
_cell_angle_alpha                90
_cell_angle_beta                 90.112(6)
_cell_angle_gamma                90
_cell_formula_units_Z            4
_cell_length_a                   21.423(2)
_cell_length_b                   8.3075(4)
_cell_length_c                   7.3587(4)
_cell_measurement_reflns_used    5726
_cell_measurement_temperature    130.01(11)
_cell_measurement_theta_max      28.5030
_cell_measurement_theta_min      2.6110
_cell_volume                     1309.64(15)
_computing_cell_refinement       'CrysAlisPro 1.171.42.49 (Rigaku OD, 2022)'
_computing_data_collection       'CrysAlisPro 1.171.42.49 (Rigaku OD, 2022)'
_computing_data_reduction        'CrysAlisPro 1.171.42.49 (Rigaku OD, 2022)'
_computing_molecular_graphics    'Olex2 1.5 (Dolomanov et al., 2009)'
_computing_publication_material  'Olex2 1.5 (Dolomanov et al., 2009)'
_computing_structure_refinement  'SHELXL 2019/2 (Sheldrick, 2015)'
_computing_structure_solution    'SHELXT  (Sheldrick, 2015)'
_diffrn_ambient_temperature      130.15
_diffrn_detector_area_resol_mean 8.0772
_diffrn_detector_type            Eos
_diffrn_measured_fraction_theta_full 0.992
_diffrn_measured_fraction_theta_max 0.890
_diffrn_measurement_device       'four-circle diffractometer'
_diffrn_measurement_device_type  'Xcalibur, Eos'
_diffrn_measurement_method       'ω scans'
_diffrn_radiation_type           MoK\a
_diffrn_radiation_wavelength     0.71073
_diffrn_reflns_av_R_equivalents  0.0376
_diffrn_reflns_av_unetI/netI     0.0316
_diffrn_reflns_Laue_measured_fraction_full 0.992
_diffrn_reflns_Laue_measured_fraction_max 0.890
_diffrn_reflns_limit_h_max       26
_diffrn_reflns_limit_h_min       -28
_diffrn_reflns_limit_k_max       10
_diffrn_reflns_limit_k_min       -11
_diffrn_reflns_limit_l_max       9
_diffrn_reflns_limit_l_min       -9
_diffrn_reflns_number            14134
_diffrn_reflns_point_group_measured_fraction_full 0.992
_diffrn_reflns_point_group_measured_fraction_max 0.890
_diffrn_reflns_theta_full        25.000
_diffrn_reflns_theta_max         29.014
_diffrn_reflns_theta_min         2.630
_exptl_absorpt_coefficient_mu    13.677
_exptl_absorpt_correction_T_max  0.777
_exptl_absorpt_correction_T_min  0.492
_exptl_absorpt_correction_type   analytical
_exptl_absorpt_process_details
;
CrysAlisPro 1.171.42.49 (Rigaku Oxford Diffraction, 2022)
Analytical numeric absorption correction using a multifaceted crystal
model based on expressions derived by R.C. Clark & J.S. Reid.
(Clark, R. C. & Reid, J. S. (1995). Acta Cryst. A51, 887-897)
Empirical absorption correction using spherical harmonics,
implemented in SCALE3 ABSPACK scaling algorithm.
;
_exptl_crystal_colour            colourless
_exptl_crystal_colour_primary    colourless
_exptl_crystal_density_diffrn    2.481
_exptl_crystal_description       block
_exptl_crystal_F_000             896
_exptl_crystal_size_max          0.50
_exptl_crystal_size_mid          0.15
_exptl_crystal_size_min          0.12
_refine_diff_density_max         1.573
_refine_diff_density_min         -5.442
_refine_diff_density_rms         0.239
_refine_ls_extinction_coef       0.0061(4)
_refine_ls_extinction_expression Fc^*^=kFc[1+0.001xFc²λ³/sin(2θ)]^-1/4^
_refine_ls_extinction_method     'SHELXL-2019/2 (Sheldrick 2019)'
_refine_ls_goodness_of_fit_ref   1.255
_refine_ls_hydrogen_treatment    constr
_refine_ls_matrix_type           full
_refine_ls_number_parameters     137
_refine_ls_number_reflns         3091
_refine_ls_number_restraints     151
_refine_ls_restrained_S_all      1.299
_refine_ls_R_factor_all          0.0734
_refine_ls_R_factor_gt           0.0597
_refine_ls_shift/su_max          0.000
_refine_ls_shift/su_mean         0.000
_refine_ls_structure_factor_coef Fsqd
_refine_ls_weighting_details
'w=1/[σ²(Fo²)+(0.0311P)²+21.0634P] where P=(Fo²+2Fc²)/3'
_refine_ls_weighting_scheme      calc
_refine_ls_wR_factor_gt          0.1189
_refine_ls_wR_factor_ref         0.1267
_reflns_Friedel_coverage         0.000
_reflns_number_gt                2529
_reflns_number_total             3091
_reflns_threshold_expression     'I > 2σ(I)'
_cod_data_source_file            d4dt00406j2.cif
_cod_data_source_block           triag2pbcl4_iv_130_00
_cod_depositor_comments
'Adding full bibliography for 7715584--7715597.cif.'
_cod_original_cell_volume        1309.63(16)
_cod_database_code               7715587
_shelx_shelxl_version_number     2018/3
_shelx_space_group_comment
;
The symmetry employed for this shelxl refinement is uniquely defined
by the following loop, which should always be used as a source of
symmetry information in preference to the above space-group names.
They are only intended as comments.
;
_olex2_refinement_description
;
1. Fixed Uiso
 At 1.2 times of:
  All C(H) groups, All N(H) groups
2. Restrained distances
 N3A-N2A \\sim N3B-N2B
 with sigma of 0.02
 N3B-C2B \\sim N3A-C2A
 with sigma of 0.02
 N2A-C1A \\sim N2B-C1B
 with sigma of 0.02
 N1B-C1B \\sim N1A-C1A
 with sigma of 0.02
 N1B-C2B \\sim N1A-C2A
 with sigma of 0.02
3. Uiso/Uaniso restraints and constraints
Uanis(Cl2) \\sim Ueq, Uanis(Pb1) \\sim Ueq, Uanis(Cl1) \\sim Ueq, Uanis(Cl4)
\\sim Ueq, Uanis(Cl3) \\sim Ueq: with sigma of 0.01 and sigma for terminal
atoms of 0.02
Uanis(N3A) \\sim Ueq, Uanis(N2A) \\sim Ueq, Uanis(C1A) \\sim Ueq, Uanis(C2A)
\\sim Ueq, Uanis(N1A) \\sim Ueq: with sigma of 0.01 and sigma for terminal
atoms of 0.02
Uanis(N2B) \\sim Ueq, Uanis(C1B) \\sim Ueq, Uanis(N1B) \\sim Ueq, Uanis(N3B)
\\sim Ueq, Uanis(C2B) \\sim Ueq: with sigma of 0.01 and sigma for terminal
atoms of 0.02
4. Rigid body (RIGU) restrains
 Cl2, Pb1, Cl1, Cl4, Cl3
 with sigma for 1-2 distances of 0.004 and sigma for 1-3 distances of 0.004
 N3B, N2B, C1B, C2B, N1B
 with sigma for 1-2 distances of 0.004 and sigma for 1-3 distances of 0.004
 N2B, C1B, N1B, N3B, C2B
 with sigma for 1-2 distances of 0.004 and sigma for 1-3 distances of 0.004
5.a Aromatic/amide H refined with riding coordinates:
 N2A(H2A), N1B(H1B), N1A(H1A), N2B(H2B), C1A(H1AA), C1B(H1BA), C2A(H2AA),
 C2B(H2BA)
;
_shelx_res_file
;
TITL triag2pbcl4_06_130_00_a.res in P2(1)/c
    triag2pbcl4_iv_130_00.res
    created by SHELXL-2019/2 at 16:40:06 on 01-Mar-2024
REM Old TITL TRIAG2PbCl4_06_130_00 in P2(1)/c
REM SHELXT solution in P2(1)/c: R1 0.379, Rweak 0.157, Alpha 0.032
REM <I/s> 1.201 for 199 systematic absences, Orientation as input
REM Formula found by SHELXT: C5 N2B Cl4 Pb
CELL 0.71073 21.4229 8.3075 7.3587 90 90.112 90
ZERR 4 0.0022 0.0004 0.0004 0 0.006 0
LATT 1
SYMM -X,0.5+Y,0.5-Z
SFAC C H Cl N Pb
UNIT 16 32 16 24 4
ISOR 0.01 0.02 Cl2 Pb1 Cl1 Cl4 Cl3
RIGU Cl2 Pb1 Cl1 Cl4 Cl3
RIGU N3B N2B C1B C2B N1B
ISOR 0.01 0.02 N3A N2A C1A C2A N1A
RIGU N2B C1B N1B N3B C2B
ISOR 0.01 0.02 N2B C1B N1B N3B C2B
SADI N3A N2A N3B N2B
SADI N3B C2B N3A C2A
SADI N2A C1A N2B C1B
SADI N1B C1B N1A C1A
SADI N1B C2B N1A C2A

L.S. 44
PLAN  5
TEMP -143
CONF
list 4
MORE -1
BOND $H
fmap 2 53
acta 50
OMIT -22 2 1
OMIT -21 1 4
OMIT 0 2 0
OMIT 0 4 0
OMIT 1 2 0
OMIT 4 0 0
OMIT 4 1 0
OMIT 5 0 0
OMIT 8 0 0
OMIT 21 2 2
OMIT 22 1 2
OMIT 22 3 2
OMIT 22 4 1
OMIT 23 3 0
OMIT 23 5 2
OMIT 24 2 1
OMIT 25 3 0
OMIT 25 4 1
OMIT 28 2 1
REM <olex2.extras>
REM <HklSrc "%.\\triag2pbcl4_iv_130_00.hkl">
REM </olex2.extras>

WGHT    0.031100   21.063400
EXTI    0.006107
FVAR       2.87057
PB1   5    0.249995    0.492153    0.365243    11.00000    0.09797    0.00909 =
         0.00963   -0.00024    0.00038   -0.00006
CL1   3    0.249905    0.764157    0.142062    11.00000    0.12989    0.01786 =
         0.01612    0.00622    0.00011   -0.00024
CL2   3    0.250013    0.182156    0.538549    11.00000    0.12531    0.02052 =
         0.02178    0.00959    0.00083    0.00006
CL4   3    0.382865    0.483197    0.362541    11.00000    0.08981    0.01292 =
         0.07079    0.00088   -0.01404   -0.00422
CL3   3    0.117291    0.483208    0.362478    11.00000    0.08964    0.01317 =
         0.07120    0.00099    0.01668    0.00392
N2A   4    0.395789    0.398655    0.856464    11.00000    0.05029    0.02517 =
         0.05200    0.00261   -0.00998    0.00328
AFIX  43
H2A   2    0.376777    0.306618    0.877364    11.00000   -1.20000
AFIX   0

N1B   4    0.087844    0.647359    0.831368    11.00000    0.06819    0.02363 =
         0.05195    0.00231    0.01819   -0.00170
AFIX  43
H1B   2    0.092728    0.752530    0.832683    11.00000   -1.20000
AFIX   0

N1A   4    0.412592    0.647309    0.831986    11.00000    0.06785    0.02158 =
         0.05409    0.00033   -0.01981   -0.00028
AFIX  43
H1A   2    0.407862    0.752515    0.834117    11.00000   -1.20000
AFIX   0

N2B   4    0.104284    0.398829    0.856682    11.00000    0.05944    0.02587 =
         0.05540    0.00252    0.01864   -0.00292
AFIX  43
H2B   2    0.123167    0.306715    0.878347    11.00000   -1.20000
AFIX   0

C1A   1    0.369579    0.539173    0.873647    11.00000    0.06631    0.03470 =
         0.04634    0.00116    0.00033    0.00970
AFIX  43
H1AA  2    0.327743    0.560027    0.909159    11.00000   -1.20000
AFIX   0

C1B   1    0.130854    0.538985    0.872921    11.00000    0.06658    0.02726 =
         0.05421    0.00465    0.00997   -0.00608
AFIX  43
H1BA  2    0.172835    0.559468    0.907730    11.00000   -1.20000
AFIX   0

N3A   4    0.455017    0.411555    0.803262    11.00000    0.06898    0.02503 =
         0.07607   -0.00236   -0.03209    0.00297
N3B   4    0.044799    0.411745    0.803074    11.00000    0.06022    0.02693 =
         0.07069   -0.00207    0.02552   -0.00213
C2A   1    0.465158    0.567029    0.785517    11.00000    0.06006    0.03018 =
         0.07310    0.00326   -0.02329    0.00067
AFIX  43
H2AA  2    0.503103    0.614957    0.746536    11.00000   -1.20000
AFIX   0

C2B   1    0.035106    0.567436    0.786581    11.00000    0.06274    0.02863 =
         0.07279   -0.00065    0.01932   -0.00174
AFIX  43
H2BA  2   -0.002954    0.615964    0.749108    11.00000   -1.20000
AFIX   0
HKLF 4




REM  triag2pbcl4_06_130_00_a.res in P2(1)/c
REM wR2 = 0.1267, GooF = S = 1.255, Restrained GooF = 1.299 for all data
REM R1 = 0.0597 for 2529 Fo > 4sig(Fo) and 0.0734 for all 3091 data
REM 137 parameters refined using 151 restraints

END

WGHT      0.0304     21.2278

REM Highest difference peak  1.573,  deepest hole -5.442,  1-sigma level  0.239
Q1    1   0.2787  0.5606  0.3433  11.00000  0.05    1.57
Q2    1   0.2214  0.5633  0.3804  11.00000  0.05    1.56
Q3    1   0.2436  0.6053  0.3791  11.00000  0.05    1.47
Q4    1   0.2546  0.3748  0.3633  11.00000  0.05    1.21
Q5    1   0.2055  0.4025  0.3635  11.00000  0.05    1.18
;
_shelx_res_checksum              13642
_olex2_submission_special_instructions 'No special instructions were received'
_oxdiff_exptl_absorpt_empirical_details
;
Empirical correction (ABSPACK) includes:
- Absorption correction using spherical harmonics
- Frame scaling
;
loop_
_space_group_symop_operation_xyz
'x, y, z'
'-x, y+1/2, -z+1/2'
'-x, -y, -z'
'x, -y-1/2, z-1/2'
loop_
_atom_site_label
_atom_site_type_symbol
_atom_site_fract_x
_atom_site_fract_y
_atom_site_fract_z
_atom_site_U_iso_or_equiv
_atom_site_adp_type
_atom_site_occupancy
_atom_site_site_symmetry_order
_atom_site_calc_flag
_atom_site_refinement_flags_posn
_atom_site_refinement_flags_adp
_atom_site_refinement_flags_occupancy
_atom_site_disorder_assembly
_atom_site_disorder_group
Pb1 Pb 0.25000(3) 0.49215(4) 0.36524(4) 0.0389(2) Uani 1 1 d . U . . .
Cl1 Cl 0.2499(2) 0.7642(3) 0.1421(3) 0.0546(9) Uani 1 1 d . U . . .
Cl2 Cl 0.2500(2) 0.1822(3) 0.5385(4) 0.0559(9) Uani 1 1 d . U . . .
Cl4 Cl 0.3829(2) 0.4832(3) 0.3625(5) 0.0579(9) Uani 1 1 d . U . . .
Cl3 Cl 0.1173(2) 0.4832(3) 0.3625(5) 0.0580(9) Uani 1 1 d . U . . .
N2A N 0.3958(5) 0.3987(11) 0.8565(14) 0.043(2) Uani 1 1 d D U . . .
H2A H 0.376777 0.306618 0.877364 0.051 Uiso 1 1 calc R U . . .
N1B N 0.0878(5) 0.6474(11) 0.8314(14) 0.048(2) Uani 1 1 d D U . . .
H1B H 0.092728 0.752530 0.832683 0.057 Uiso 1 1 calc R U . . .
N1A N 0.4126(5) 0.6473(11) 0.8320(14) 0.048(3) Uani 1 1 d D U . . .
H1A H 0.407862 0.752515 0.834117 0.057 Uiso 1 1 calc R U . . .
N2B N 0.1043(5) 0.3988(12) 0.8567(14) 0.047(2) Uani 1 1 d D U . . .
H2B H 0.123167 0.306715 0.878347 0.056 Uiso 1 1 calc R U . . .
C1A C 0.3696(7) 0.5392(14) 0.8736(18) 0.049(3) Uani 1 1 d D U . . .
H1AA H 0.327743 0.560027 0.909159 0.059 Uiso 1 1 calc R U . . .
C1B C 0.1309(7) 0.5390(13) 0.8729(19) 0.049(3) Uani 1 1 d D U . . .
H1BA H 0.172835 0.559468 0.907730 0.059 Uiso 1 1 calc R U . . .
N3A N 0.4550(6) 0.4116(12) 0.8033(17) 0.057(3) Uani 1 1 d D U . . .
N3B N 0.0448(5) 0.4117(12) 0.8031(16) 0.053(2) Uani 1 1 d D U . . .
C2A C 0.4652(7) 0.5670(14) 0.786(2) 0.054(3) Uani 1 1 d D U . . .
H2AA H 0.503103 0.614957 0.746536 0.065 Uiso 1 1 calc R U . . .
C2B C 0.0351(7) 0.5674(14) 0.787(2) 0.055(3) Uani 1 1 d D U . . .
H2BA H -0.002954 0.615964 0.749108 0.066 Uiso 1 1 calc R U . . .
loop_
_atom_site_aniso_label
_atom_site_aniso_U_11
_atom_site_aniso_U_22
_atom_site_aniso_U_33
_atom_site_aniso_U_23
_atom_site_aniso_U_13
_atom_site_aniso_U_12
Pb1 0.0980(4) 0.0091(2) 0.0096(2) -0.00024(11) 0.00038(18) -0.00006(19)
Cl1 0.130(3) 0.0179(11) 0.0161(12) 0.0062(9) 0.0001(14) -0.0002(14)
Cl2 0.125(3) 0.0205(12) 0.0218(12) 0.0096(9) 0.0008(15) 0.0001(15)
Cl4 0.090(3) 0.0129(12) 0.071(2) 0.0009(12) -0.0140(18) -0.0042(14)
Cl3 0.090(3) 0.0132(12) 0.071(2) 0.0010(12) 0.0167(18) 0.0039(14)
N2A 0.050(6) 0.025(4) 0.052(5) 0.003(4) -0.010(4) 0.003(4)
N1B 0.068(5) 0.024(4) 0.052(5) 0.002(3) 0.018(4) -0.002(3)
N1A 0.068(6) 0.022(4) 0.054(5) 0.000(4) -0.020(5) 0.000(4)
N2B 0.059(5) 0.026(4) 0.055(5) 0.003(3) 0.019(4) -0.003(3)
C1A 0.066(7) 0.035(5) 0.046(6) 0.001(5) 0.000(5) 0.010(5)
C1B 0.067(5) 0.027(4) 0.054(6) 0.005(4) 0.010(4) -0.006(3)
N3A 0.069(7) 0.025(5) 0.076(7) -0.002(4) -0.032(5) 0.003(5)
N3B 0.060(5) 0.027(4) 0.071(6) -0.002(4) 0.026(4) -0.002(3)
C2A 0.060(7) 0.030(5) 0.073(7) 0.003(5) -0.023(6) 0.001(5)
C2B 0.063(5) 0.029(4) 0.073(7) -0.001(4) 0.019(4) -0.002(4)
loop_
_atom_type_symbol
_atom_type_description
_atom_type_scat_dispersion_real
_atom_type_scat_dispersion_imag
_atom_type_scat_source
C C 0.0033 0.0016 'International Tables Vol C Tables 4.2.6.8 and 6.1.1.4'
H H 0.0000 0.0000 'International Tables Vol C Tables 4.2.6.8 and 6.1.1.4'
Cl Cl 0.1484 0.1585 'International Tables Vol C Tables 4.2.6.8 and 6.1.1.4'
N N 0.0061 0.0033 'International Tables Vol C Tables 4.2.6.8 and 6.1.1.4'
Pb Pb -3.3944 10.1111 'International Tables Vol C Tables 4.2.6.8 and 6.1.1.4'
loop_
_exptl_crystal_face_index_h
_exptl_crystal_face_index_k
_exptl_crystal_face_index_l
_exptl_crystal_face_perp_dist
1 7 -8 0.0869
0 7 8 0.0832
-1 1 10 0.0738
-1 -12 1 0.4117
1 0 -10 0.0824
-2 12 -1 0.1383
-30 1 0 0.0656
30 0 0 0.0459
loop_
_geom_angle_atom_site_label_1
_geom_angle_atom_site_label_2
_geom_angle_atom_site_label_3
_geom_angle
_geom_angle_site_symmetry_1
_geom_angle_site_symmetry_3
_geom_angle_publ_flag
Cl1 Pb1 Cl1 81.187(12) . 4_576 ?
Cl1 Pb1 Cl2 170.34(8) . . ?
Cl1 Pb1 Cl2 85.05(8) . 4_565 ?
Cl1 Pb1 Cl2 108.48(8) 4_576 . ?
Cl1 Pb1 Cl4 90.95(11) . . ?
Cl1 Pb1 Cl3 91.00(11) . . ?
Cl2 Pb1 Cl1 166.24(8) 4_565 4_576 ?
Cl2 Pb1 Cl2 85.28(3) 4_565 . ?
Cl2 Pb1 Cl4 88.78(12) 4_565 . ?
Cl2 Pb1 Cl3 88.98(12) 4_565 . ?
Cl4 Pb1 Cl1 91.46(11) . 4_576 ?
Cl4 Pb1 Cl2 88.88(11) . . ?
Cl3 Pb1 Cl1 91.23(11) . 4_576 ?
Cl3 Pb1 Cl2 88.80(11) . . ?
Cl3 Pb1 Cl4 176.90(8) . . ?
Pb1 Cl1 Pb1 170.83(10) . 4_575 ?
Pb1 Cl2 Pb1 147.41(11) 4_566 . ?
C1A N2A H2A 124.2 . . ?
C1A N2A N3A 111.6(10) . . ?
N3A N2A H2A 124.2 . . ?
C1B N1B H1B 126.2 . . ?
C1B N1B C2B 107.7(11) . . ?
C2B N1B H1B 126.2 . . ?
C1A N1A H1A 126.1 . . ?
C1A N1A C2A 107.7(10) . . ?
C2A N1A H1A 126.1 . . ?
C1B N2B H2B 124.1 . . ?
C1B N2B N3B 111.8(11) . . ?
N3B N2B H2B 124.1 . . ?
N2A C1A N1A 106.6(12) . . ?
N2A C1A H1AA 126.7 . . ?
N1A C1A H1AA 126.7 . . ?
N1B C1B H1BA 126.8 . . ?
N2B C1B N1B 106.5(12) . . ?
N2B C1B H1BA 126.8 . . ?
C2A N3A N2A 105.4(11) . . ?
C2B N3B N2B 104.8(11) . . ?
N1A C2A H2AA 125.6 . . ?
N3A C2A N1A 108.7(12) . . ?
N3A C2A H2AA 125.6 . . ?
N1B C2B H2BA 125.4 . . ?
N3B C2B N1B 109.2(12) . . ?
N3B C2B H2BA 125.4 . . ?
loop_
_geom_bond_atom_site_label_1
_geom_bond_atom_site_label_2
_geom_bond_distance
_geom_bond_site_symmetry_2
_geom_bond_publ_flag
Pb1 Cl1 2.793(2) . ?
Pb1 Cl1 2.872(2) 4_576 ?
Pb1 Cl2 2.806(2) 4_565 ?
Pb1 Cl2 2.874(2) . ?
Pb1 Cl4 2.848(4) . ?
Pb1 Cl3 2.844(4) . ?
N2A H2A 0.8800 . ?
N2A C1A 1.302(13) . ?
N2A N3A 1.333(14) . ?
N1B H1B 0.8800 . ?
N1B C1B 1.324(15) . ?
N1B C2B 1.351(15) . ?
N1A H1A 0.8800 . ?
N1A C1A 1.323(15) . ?
N1A C2A 1.353(15) . ?
N2B H2B 0.8800 . ?
N2B C1B 1.301(13) . ?
N2B N3B 1.338(14) . ?
C1A H1AA 0.9500 . ?
C1B H1BA 0.9500 . ?
N3A C2A 1.316(14) . ?
N3B C2B 1.316(14) . ?
C2A H2AA 0.9500 . ?
C2B H2BA 0.9500 . ?
loop_
_geom_torsion_atom_site_label_1
_geom_torsion_atom_site_label_2
_geom_torsion_atom_site_label_3
_geom_torsion_atom_site_label_4
_geom_torsion
_geom_torsion_site_symmetry_1
_geom_torsion_site_symmetry_2
_geom_torsion_site_symmetry_3
_geom_torsion_site_symmetry_4
_geom_torsion_publ_flag
N2A N3A C2A N1A 1.4(14) . . . . ?
N2B N3B C2B N1B -0.6(14) . . . . ?
C1A N2A N3A C2A -0.6(14) . . . . ?
C1A N1A C2A N3A -1.7(15) . . . . ?
C1B N1B C2B N3B 1.1(15) . . . . ?
C1B N2B N3B C2B -0.1(14) . . . . ?
N3A N2A C1A N1A -0.4(14) . . . . ?
N3B N2B C1B N1B 0.8(15) . . . . ?
C2A N1A C1A N2A 1.3(15) . . . . ?
C2B N1B C1B N2B -1.1(15) . . . . ?
