#------------------------------------------------------------------------------
#$Date: 2016-02-13 21:28:24 +0200 (Sat, 13 Feb 2016) $
#$Revision: 176429 $
#$URL: svn://www.crystallography.net/cod/cif/8/10/44/8104407.cif $
#------------------------------------------------------------------------------
#
# This file is available in the Crystallography Open Database (COD),
# http://www.crystallography.net/
#
# All data on this site have been placed in the public domain by the
# contributors.
#
data_8104407
loop_
_publ_author_name
'Bente, K.'
'Steins, M.'
'Blum, W.'
_publ_section_title
;
 Crystal structure of barium lead antimony bismuth oxide
;
_journal_name_full
'Zeitschrift fuer Kristallographie (149,1979-)'
_journal_page_first              304
_journal_page_last               305
_journal_volume                  206
_journal_year                    1993
_chemical_formula_sum            'Ba Bi0.05 O3 Pb0.7 Sb0.25'
_chemical_name_systematic        'Ba (Pb0.7 Sb0.25 Bi0.05) O3'
_space_group_IT_number           221
_symmetry_space_group_name_Hall  '-P 4 2 3'
_symmetry_space_group_name_H-M   'P m -3 m'
_cell_angle_alpha                90
_cell_angle_beta                 90
_cell_angle_gamma                90
_cell_formula_units_Z            1
_cell_length_a                   4.256
_cell_length_b                   4.256
_cell_length_c                   4.256
_cell_volume                     77.091
_citation_journal_id_ASTM        ZEKRDZ
_cod_data_source_file            Bente_ZEKRDZ_1993_1548.cif
_cod_data_source_block           Ba1Bi0.05O3Pb0.7Sb0.25
_cod_original_cell_volume        77.09121
_cod_original_formula_sum        'Ba1 Bi0.05 O3 Pb0.7 Sb0.25'
_cod_database_code               8104407
loop_
_symmetry_equiv_pos_as_xyz
x,y,z
-y,x,z
-x,-y,z
y,-x,z
x,-y,-z
y,x,-z
-x,y,-z
-y,-x,-z
z,x,y
-x,z,y
-z,-x,y
x,-z,y
z,-x,-y
x,z,-y
-z,x,-y
-x,-z,-y
y,z,x
y,-z,-x
z,y,-x
-y,z,-x
-z,-y,-x
-y,-z,x
z,-y,x
-z,y,x
-x,-y,-z
y,-x,-z
x,y,-z
-y,x,-z
-x,y,z
-y,-x,z
x,-y,z
y,x,z
-z,-x,-y
x,-z,-y
z,x,-y
-x,z,-y
-z,x,y
-x,-z,y
z,-x,y
x,z,y
-y,-z,-x
-y,z,x
-z,-y,x
y,-z,x
z,y,x
y,z,-x
-z,y,-x
z,-y,-x
loop_
_atom_site_label
_atom_site_type_symbol
_atom_site_fract_x
_atom_site_fract_y
_atom_site_fract_z
_atom_site_occupancy
_atom_site_U_iso_or_equiv
Pb1 Pb 0 0 0 0.7 0.0
Sb1 Sb 0 0 0 0.25 0.0
Ba1 Ba 0.5 0.5 0.5 1 0.0
Bi1 Bi 0 0 0 0.05 0.0
O1 O 0.5 0 0 1 0.0
