#------------------------------------------------------------------------------
#$Date: 2023-05-23 11:35:25 +0300 (Tue, 23 May 2023) $
#$Revision: 283960 $
#$URL: file:///home/coder/svn-repositories/cod/cif/9/00/45/9004501.cif $
#------------------------------------------------------------------------------
#
# This file is available in the Crystallography Open Database (COD),
# http://www.crystallography.net/. The original data for this entry
# were provided the American Mineralogist Crystal Structure Database,
# http://rruff.geo.arizona.edu/AMS/amcsd.php
#
# The file may be used within the scientific community so long as
# proper attribution is given to the journal article from which the
# data were obtained.
#
data_9004501
loop_
_publ_author_name
'Sherriff, B. L.'
'Sokolova, E. V.'
'Kabalov, Y. K.'
'Teertstra, D. K.'
'Kunath-Fandrei G'
'Goetz, S.'
'Jager, C.'
_publ_section_title
;Intermediate scapolite: 29Si MAS and 26Al SATRAS NMR spectroscopy and
 Rietveld structure-refinement Sample: MAD
;
_journal_name_full               'The Canadian Mineralogist'
_journal_page_first              1267
_journal_page_last               1283
_journal_volume                  36
_journal_year                    1998
_chemical_formula_sum
'C0.24 Al4.24 Ca1.84 Cl0.47 K0.08 Na2 O27.24 S0.09 Si7.76'
_chemical_name_mineral           Scapolite
_space_group_IT_number           86
_symmetry_space_group_name_Hall  '-P 4bc'
_symmetry_space_group_name_H-M   'P 42/n :2'
_cell_angle_alpha                90
_cell_angle_beta                 90
_cell_angle_gamma                90
_cell_formula_units_Z            2
_cell_length_a                   12.0957
_cell_length_b                   12.0957
_cell_length_c                   7.5730
_cell_volume                     1107.975
_database_code_amcsd             0005576
_exptl_crystal_density_diffrn    2.738
_cod_original_sg_symbol_H-M      'P 42/n'
_cod_original_formula_sum
'Na2 K.08 Ca1.84 Si7.76 Al4.24 Cl.47 S.09 C.24 O27.24'
_cod_database_code               9004501
loop_
_space_group_symop_operation_xyz
x,y,z
y,1/2-x,1/2-z
-y,1/2+x,1/2+z
1/2+x,1/2+y,-z
1/2-x,1/2-y,z
1/2-y,x,1/2-z
1/2+y,-x,1/2+z
-x,-y,-z
loop_
_atom_site_label
_atom_site_fract_x
_atom_site_fract_y
_atom_site_fract_z
_atom_site_occupancy
_atom_site_U_iso_or_equiv
_atom_site_type_symbol
_atom_site_attached_hydrogens
NaM 0.53530 0.61120 0.74500 0.50000 0.02913 Na 0
KM 0.53530 0.61120 0.74500 0.02000 0.02913 K 0
CaM 0.53530 0.61120 0.74500 0.46000 0.02913 Ca 0
SiT1 0.65980 0.58870 0.25000 1.00000 0.01520 Si 0
SiT2 0.16400 0.91100 0.04000 0.47000 0.02406 Si 0
AlT2 0.16400 0.91100 0.04000 0.53000 0.02406 Al 0
SiT3 0.09200 0.66300 0.95400 0.47000 0.02153 Si 0
AlT3 0.09200 0.66300 0.95400 0.53000 0.02153 Al 0
ClA 0.25000 0.25000 0.25000 0.47000 0.05699 Cl 0
SA 0.25000 0.25000 0.25000 0.09000 0.05699 S 0
CA 0.25000 0.25000 0.25000 0.24000 0.05699 C 0
O1 0.60230 0.70580 0.24800 1.00000 0.02406 O 0
O2 0.12350 0.93880 0.24000 1.00000 0.02660 O 0
O3 0.20600 0.60100 0.03600 1.00000 0.02406 O 0
O4 0.10100 0.80800 0.95600 1.00000 0.03420 O 0
O5 0.62400 0.52300 0.07000 1.00000 0.02660 O 0
O6 0.97800 0.61700 0.07800 1.00000 0.02533 O 0
O7 0.12600 0.26700 0.25000 0.24000 0.04433 O 0
O8 0.29000 0.34600 0.25000 0.24000 0.04433 O 0
O9 0.27600 0.16400 0.25000 0.24000 0.04433 O 0
O10 0.26800 0.35000 0.35600 0.09000 0.04433 O 0
loop_
_cod_changelog_entry_id
_cod_changelog_entry_author
_cod_changelog_entry_date
_cod_changelog_entry_text
1
;cod-tools version 3.8.0
Id: cif_guess_AMCSD_atom_types 9581 2023-05-17 12:35:41Z saulius
;
2023-05-23T09:15:52+03:00
;Derived atom types and hydrogen counts
from atom names that follow the AMCSD naming convention
(Wat == water, O-H == hydroxyl).
;
loop_
_cod_related_entry_id
_cod_related_entry_database
_cod_related_entry_code
1 AMCSD 0005576
