#------------------------------------------------------------------------------
#$Date: 2024-04-25 17:59:02 +0300 (Thu, 25 Apr 2024) $
#$Revision: 291351 $
#$URL: file:///home/coder/svn-repositories/cod/cif/9/00/58/9005860.cif $
#------------------------------------------------------------------------------
#
# This file is available in the Crystallography Open Database (COD),
# http://www.crystallography.net/. The original data for this entry
# were provided the American Mineralogist Crystal Structure Database,
# http://rruff.geo.arizona.edu/AMS/amcsd.php
#
# The file may be used within the scientific community so long as
# proper attribution is given to the journal article from which the
# data were obtained.
#
data_9005860
loop_
_publ_author_name
'Hazen, R. M.'
'Finger, L. W.'
_publ_section_title
;
 High-temperature crystal chemistry of phenakite (Be2SiO4) and
 Chrysoberyl (BeAl2O4)
 Sample: T = 690 C
;
_journal_name_full               'Physics and Chemistry of Minerals'
_journal_page_first              426
_journal_page_last               434
_journal_paper_doi               10.1007/BF00628819
_journal_volume                  14
_journal_year                    1987
_chemical_formula_sum            'Be2 O4 Si'
_chemical_name_mineral           Phenakite
_space_group_IT_number           148
_symmetry_space_group_name_Hall  '-R 3'
_symmetry_space_group_name_H-M   'R -3 :H'
_cell_angle_alpha                90
_cell_angle_beta                 90
_cell_angle_gamma                120
_cell_length_a                   12.482
_cell_length_b                   12.482
_cell_length_c                   8.266
_cell_formula_units_Z            18
_cell_volume                     1115.307
_database_code_amcsd             0007442
_diffrn_ambient_temperature      963.15
_exptl_crystal_density_diffrn    2.951
_cod_original_sg_symbol_H-M      'R -3'
_cod_original_formula_sum        'Be2 Si O4'
_cod_database_code               9005860
loop_
_space_group_symop_operation_xyz
x,y,z
2/3+x,1/3+y,1/3+z
1/3+x,2/3+y,2/3+z
y,-x+y,-z
2/3+y,1/3-x+y,1/3-z
1/3+y,2/3-x+y,2/3-z
-x+y,-x,z
2/3-x+y,1/3-x,1/3+z
1/3-x+y,2/3-x,2/3+z
-x,-y,-z
2/3-x,1/3-y,1/3-z
1/3-x,2/3-y,2/3-z
-y,x-y,z
2/3-y,1/3+x-y,1/3+z
1/3-y,2/3+x-y,2/3+z
x-y,x,-z
2/3+x-y,1/3+x,1/3-z
1/3+x-y,2/3+x,2/3-z
loop_
_atom_site_label
_atom_site_fract_x
_atom_site_fract_y
_atom_site_fract_z
_atom_site_U_iso_or_equiv
Be1 0.19381 0.21010 0.41550 0.01330
Be2 0.19426 0.21133 0.08448 0.01418
Si 0.19554 0.21162 0.74998 0.00798
O1 0.20982 0.08888 0.75048 0.01229
O2 0.33312 0.33288 0.75013 0.01178
O3 0.12248 0.20976 0.91413 0.01241
O4 0.12219 0.20875 0.58607 0.01267
loop_
_cod_related_entry_id
_cod_related_entry_database
_cod_related_entry_code
1 AMCSD 0007442
