#------------------------------------------------------------------------------
#$Date: 2023-05-10 20:44:19 +0300 (Wed, 10 May 2023) $
#$Revision: 283658 $
#$URL: file:///home/coder/svn-repositories/cod/cif/9/00/63/9006329.cif $
#------------------------------------------------------------------------------
#
# This file is available in the Crystallography Open Database (COD),
# http://www.crystallography.net/. The original data for this entry
# were provided the American Mineralogist Crystal Structure Database,
# http://rruff.geo.arizona.edu/AMS/amcsd.php
#
# The file may be used within the scientific community so long as
# proper attribution is given to the journal article from which the
# data were obtained.
#
data_9006329
loop_
_publ_author_name
'Comodi, P.'
'Zanazzi, P. F.'
_publ_section_title
;
 High-pressure structural study of muscovite
 Sample: Na-Ms, P = 2.7 GPa
;
_journal_name_full               'Physics and Chemistry of Minerals'
_journal_page_first              170
_journal_page_last               177
_journal_volume                  22
_journal_year                    1995
_chemical_formula_sum
'Al2.8 Fe0.1 H2 K0.6 Mg0.04 Na0.37 O12 Si3.04 Ti0.02'
_chemical_name_mineral           Muscovite
_space_group_IT_number           15
_symmetry_space_group_name_Hall  '-C 2yc'
_symmetry_space_group_name_H-M   'C 1 2/c 1'
_cell_angle_alpha                90
_cell_angle_beta                 95.5
_cell_angle_gamma                90
_cell_formula_units_Z            4
_cell_length_a                   5.130
_cell_length_b                   8.886
_cell_length_c                   19.241
_cell_volume                     873.066
_database_code_amcsd             0007911
_diffrn_ambient_pressure         2.7e+06
_exptl_crystal_density_diffrn    3.001
_cod_original_formula_sum
'K.6 Na.37 Al2.8 Ti.02 Fe.1 Mg.04 Si3.04 O12 H2'
_cod_database_code               9006329
loop_
_space_group_symop_operation_xyz
x,y,z
1/2+x,1/2+y,z
x,-y,1/2+z
1/2+x,1/2-y,1/2+z
-x,y,1/2-z
1/2-x,1/2+y,1/2-z
-x,-y,-z
1/2-x,1/2-y,-z
loop_
_atom_site_label
_atom_site_fract_x
_atom_site_fract_y
_atom_site_fract_z
_atom_site_occupancy
_atom_site_U_iso_or_equiv
_atom_site_type_symbol
_atom_site_attached_hydrogens
K 0.00000 0.09550 0.25000 0.60000 0.01620 K 0
Na 0.00000 0.09550 0.25000 0.37000 0.01620 Na 0
AlM2 0.24760 0.08300 -0.00050 0.92000 0.00160 Al 0
TiM2 0.24760 0.08300 -0.00050 0.01000 0.00160 Ti 0
FeM2 0.24760 0.08300 -0.00050 0.05000 0.00160 Fe 0
MgM2 0.24760 0.08300 -0.00050 0.02000 0.00160 Mg 0
SiT1 0.96440 0.42730 0.14060 0.76000 0.00510 Si 0
AlT1 0.96440 0.42730 0.14060 0.24000 0.00510 Al 0
SiT2 0.45000 0.25760 0.13860 0.76000 0.00770 Si 0
AlT2 0.45000 0.25760 0.13860 0.24000 0.00770 Al 0
O1 0.95630 0.44590 0.05550 1.00000 0.00350 O 0
O2 0.38420 0.24920 0.05340 1.00000 0.01250 O 0
O3 0.40240 0.09460 0.17610 1.00000 0.01790 O 0
O4 0.75360 0.30440 0.16520 1.00000 0.01420 O 0
O5 0.25940 0.37220 0.17590 1.00000 0.00790 O 0
O-H 0.94960 0.05980 0.04840 1.00000 0.00620 O 1
loop_
_cod_changelog_entry_id
_cod_changelog_entry_author
_cod_changelog_entry_date
_cod_changelog_entry_text
1
;cod-tools version 3.8.0
Id: cif_guess_AMCSD_atom_types 9574 2023-05-10 09:00:05Z saulius
;
2023-05-10T18:50:29+03:00
;Derived atom types and hydrogen counts
from atom names that follow the AMCSD naming convention
(Wat == water, O-H == hydroxyl).
;
loop_
_cod_related_entry_id
_cod_related_entry_database
_cod_related_entry_code
1 AMCSD 0007911
