#------------------------------------------------------------------------------
#$Date: 2024-05-02 13:48:35 +0300 (Thu, 02 May 2024) $
#$Revision: 291455 $
#$URL: file:///home/coder/svn-repositories/cod/cif/9/00/69/9006975.cif $
#------------------------------------------------------------------------------
#
# This file is available in the Crystallography Open Database (COD),
# http://www.crystallography.net/. The original data for this entry
# were provided the American Mineralogist Crystal Structure Database,
# http://rruff.geo.arizona.edu/AMS/amcsd.php
#
# The file may be used within the scientific community so long as
# proper attribution is given to the journal article from which the
# data were obtained.
#
data_9006975
loop_
_publ_author_name
'Harrison, R. J.'
'Redfern, S. A. T.'
_publ_section_title
;
 Short- and long-range ordering in the ilmenite-hematite solid solution
 Sample: ilm60, T = 298 C
;
_journal_name_full               'Physics and Chemistry of Minerals'
_journal_page_first              399
_journal_page_last               412
_journal_paper_doi               10.1007/s002690100167
_journal_volume                  28
_journal_year                    2001
_chemical_formula_sum            'Fe1.4 O3 Ti0.6'
_chemical_name_mineral           Ilmenite
_space_group_IT_number           148
_symmetry_space_group_name_Hall  '-R 3'
_symmetry_space_group_name_H-M   'R -3 :H'
_cell_angle_alpha                90
_cell_angle_beta                 90
_cell_angle_gamma                120
_cell_length_a                   5.08450
_cell_length_b                   5.08450
_cell_length_c                   13.9353
_cell_formula_units_Z            6
_cell_volume                     311.992
_database_code_amcsd             0008560
_diffrn_ambient_temperature      571.15
_exptl_crystal_density_diffrn    4.947
_cod_original_sg_symbol_H-M      'R -3'
_cod_original_formula_sum        '(Fe1.4 Ti.6) O3'
_cod_database_code               9006975
loop_
_space_group_symop_operation_xyz
x,y,z
2/3+x,1/3+y,1/3+z
1/3+x,2/3+y,2/3+z
y,-x+y,-z
2/3+y,1/3-x+y,1/3-z
1/3+y,2/3-x+y,2/3-z
-x+y,-x,z
2/3-x+y,1/3-x,1/3+z
1/3-x+y,2/3-x,2/3+z
-x,-y,-z
2/3-x,1/3-y,1/3-z
1/3-x,2/3-y,2/3-z
-y,x-y,z
2/3-y,1/3+x-y,1/3+z
1/3-y,2/3+x-y,2/3+z
x-y,x,-z
2/3+x-y,1/3+x,1/3-z
1/3+x-y,2/3+x,2/3-z
loop_
_atom_site_label
_atom_site_fract_x
_atom_site_fract_y
_atom_site_fract_z
_atom_site_occupancy
_atom_site_U_iso_or_equiv
FeA 0.00000 0.00000 0.35526 0.81600 0.01222
TiA 0.00000 0.00000 0.35526 0.18400 0.01222
FeB 0.00000 0.00000 0.14323 0.58400 0.01222
TiB 0.00000 0.00000 0.14323 0.41600 0.01222
O 0.31200 0.01100 0.24810 1.00000 0.01097
loop_
_cod_related_entry_id
_cod_related_entry_database
_cod_related_entry_code
1 AMCSD 0008560
