#------------------------------------------------------------------------------
#$Date: 2024-05-02 13:48:35 +0300 (Thu, 02 May 2024) $
#$Revision: 291455 $
#$URL: file:///home/coder/svn-repositories/cod/cif/9/00/73/9007395.cif $
#------------------------------------------------------------------------------
#
# This file is available in the Crystallography Open Database (COD),
# http://www.crystallography.net/. The original data for this entry
# were provided the American Mineralogist Crystal Structure Database,
# http://rruff.geo.arizona.edu/AMS/amcsd.php
#
# The file may be used within the scientific community so long as
# proper attribution is given to the journal article from which the
# data were obtained.
#
data_9007395
loop_
_publ_author_name
'Ellemann-Olesen R'
'Malcherek, T.'
_publ_section_title
;
 The structure of SrTiOGeO4 and its solid solution with CaTiOGeO4
 Note: titanite-type structure
 Sample: Sr40
;
_journal_name_full               'Physics and Chemistry of Minerals'
_journal_page_first              531
_journal_page_last               545
_journal_paper_doi               10.1007/s00269-005-0019-0
_journal_volume                  32
_journal_year                    2005
_chemical_formula_structural     Ca.6Sr.4TiOGeO4
_chemical_formula_sum            'Ca0.593 Ge O5 Sr0.406 Ti'
_space_group_IT_number           14
_symmetry_space_group_name_Hall  '-P 2yab'
_symmetry_space_group_name_H-M   'P 1 21/a 1'
_cell_angle_alpha                90
_cell_angle_beta                 113.708
_cell_angle_gamma                90
_cell_length_a                   7.1757
_cell_length_b                   8.9564
_cell_length_c                   6.6988
_cell_formula_units_Z            4
_cell_volume                     394.188
_database_code_amcsd             0008995
_exptl_crystal_density_diffrn    4.378
_cod_original_formula_sum        'Sr.406 Ca.593 Ti Ge O5'
_cod_database_code               9007395
_amcsd_formula_title             Ca.6Sr.4TiOGeO4
loop_
_space_group_symop_operation_xyz
x,y,z
1/2+x,1/2-y,z
1/2-x,1/2+y,-z
-x,-y,-z
loop_
_atom_site_label
_atom_site_fract_x
_atom_site_fract_y
_atom_site_fract_z
_atom_site_occupancy
_atom_site_U_iso_or_equiv
Sr 0.23730 0.41970 0.25150 0.40600 0.02500
Ca 0.23730 0.41970 0.25150 0.59300 0.02500
Ti 0.51200 0.24860 0.73970 1.00000 0.01900
Ge 0.74550 0.43430 0.24880 1.00000 0.01900
O1 0.74330 0.31520 0.75110 1.00000 0.00600
O2A 0.89580 0.30890 0.43850 1.00000 0.00600
O2B 0.06760 0.19730 0.07770 1.00000 0.00600
O3A 0.40030 0.46020 0.64500 1.00000 0.00600
O3B 0.60910 0.03990 0.85130 1.00000 0.00600
loop_
_cod_related_entry_id
_cod_related_entry_database
_cod_related_entry_code
1 AMCSD 0008995
