#------------------------------------------------------------------------------
#$Date: 2024-05-06 10:39:41 +0300 (Mon, 06 May 2024) $
#$Revision: 291735 $
#$URL: file:///home/coder/svn-repositories/cod/cif/9/00/91/9009169.cif $
#------------------------------------------------------------------------------
#
# This file is available in the Crystallography Open Database (COD),
# http://www.crystallography.net/. The original data for this entry
# were provided the American Mineralogist Crystal Structure Database,
# http://rruff.geo.arizona.edu/AMS/amcsd.php
#
# The file may be used within the scientific community so long as
# proper attribution is given to the journal article from which the
# data were obtained.
#
data_9009169
loop_
_publ_author_name
'Wyckoff, R. W. G.'
_publ_section_title
;
 Second edition. Interscience Publishers, New York, New York
 Note: tetragonal PbFCl structure
;
_journal_name_full               'Crystal Structures'
_journal_page_first              294
_journal_page_last               296
_journal_volume                  1
_journal_year                    1963
_chemical_formula_structural     LaOBr
_chemical_formula_sum            'Br La O'
_space_group_IT_number           129
_symmetry_space_group_name_Hall  'P 4ab 2ab -1ab'
_symmetry_space_group_name_H-M   'P 4/n m m :1'
_cell_angle_alpha                90
_cell_angle_beta                 90
_cell_angle_gamma                90
_cell_length_a                   4.145
_cell_length_b                   4.145
_cell_length_c                   7.359
_cell_formula_units_Z            2
_cell_volume                     126.435
_database_code_amcsd             0011848
_exptl_crystal_density_diffrn    6.168
_cod_original_sg_symbol_H-M      'P 4/n m m'
_cod_original_formula_sum        'La O Br'
_cod_database_code               9009169
_amcsd_formula_title             LaOBr
loop_
_space_group_symop_operation_xyz
x,y,z
1/2-y,1/2-x,z
y,x,-z
y,-x,-z
1/2-y,1/2+x,z
x,-y,z
1/2-x,1/2+y,-z
1/2+x,1/2+y,-z
-x,-y,z
1/2+y,1/2+x,z
-y,-x,-z
-y,x,-z
1/2+y,1/2-x,z
-x,y,z
1/2+x,1/2-y,-z
1/2-x,1/2-y,-z
loop_
_atom_site_label
_atom_site_fract_x
_atom_site_fract_y
_atom_site_fract_z
La 0.00000 0.50000 0.16400
O 0.00000 0.00000 0.00000
Br 0.00000 0.50000 0.63500
loop_
_cod_related_entry_id
_cod_related_entry_database
_cod_related_entry_code
1 AMCSD 0011848
