#------------------------------------------------------------------------------
#$Date: 2024-05-09 11:47:05 +0300 (Thu, 09 May 2024) $
#$Revision: 291792 $
#$URL: file:///home/coder/svn-repositories/cod/cif/9/01/08/9010898.cif $
#------------------------------------------------------------------------------
#
# This file is available in the Crystallography Open Database (COD),
# http://www.crystallography.net/. The original data for this entry
# were provided the American Mineralogist Crystal Structure Database,
# http://rruff.geo.arizona.edu/AMS/amcsd.php
#
# The file may be used within the scientific community so long as
# proper attribution is given to the journal article from which the
# data were obtained.
#
data_9010898
loop_
_publ_author_name
'Gatta, G. D.'
'Rinaldi, R.'
'Knight, K. S.'
'Molin, G.'
'Artioli, G.'
_publ_section_title
;
 High temperature structural and thermoelastic behaviour of mantle
 orthopyroxene: an in situ neutron powder diffraction study
 Sample: T = 150 C
;
_journal_name_full               'Physics and Chemistry of Minerals'
_journal_page_first              185
_journal_page_last               200
_journal_paper_doi               10.1007/s00269-006-0138-2
_journal_volume                  34
_journal_year                    2007
_chemical_formula_sum            'Al0.03 Fe0.15 Mg1.82 O6 Si1.97'
_chemical_name_mineral           Enstatite
_space_group_IT_number           61
_symmetry_space_group_name_Hall  '-P 2ac 2ab'
_symmetry_space_group_name_H-M   'P b c a'
_cell_angle_alpha                90
_cell_angle_beta                 90
_cell_angle_gamma                90
_cell_length_a                   18.2513
_cell_length_b                   8.8274
_cell_length_c                   5.1929
_cell_formula_units_Z            8
_cell_volume                     836.636
_database_code_amcsd             0009068
_diffrn_ambient_temperature      423.15
_exptl_crystal_density_diffrn    3.251
_cod_original_formula_sum        'Mg1.82 Fe.15 Si1.97 Al.03 O6'
_cod_database_code               9010898
loop_
_space_group_symop_operation_xyz
x,y,z
x,1/2-y,1/2+z
-x,1/2+y,1/2-z
1/2-x,1/2+y,z
1/2+x,1/2-y,-z
1/2+x,y,1/2-z
1/2-x,-y,1/2+z
-x,-y,-z
loop_
_atom_site_label
_atom_site_fract_x
_atom_site_fract_y
_atom_site_fract_z
_atom_site_occupancy
_atom_site_U_iso_or_equiv
MgM1 0.37930 0.65260 0.86820 0.97200 0.00709
FeM1 0.37930 0.65260 0.86820 0.01800 0.00709
MgM2 0.37450 0.48760 0.35310 0.84800 0.00974
FeM2 0.37450 0.48760 0.35310 0.13200 0.00974
SiA 0.26940 0.34750 0.05050 1.00000 0.00361
SiB 0.47290 0.33540 0.79520 0.97000 0.00361
AlB 0.47290 0.33540 0.79520 0.03000 0.00361
O1A 0.18320 0.33740 0.03810 1.00000 0.00447
O1B 0.56170 0.34260 0.79630 1.00000 0.00447
O2A 0.30940 0.50560 0.03720 1.00000 0.00447
O2B 0.43180 0.48580 0.68930 1.00000 0.00447
O3A 0.30440 0.22550 -0.17020 1.00000 0.00447
O3B 0.44740 0.19760 0.60200 1.00000 0.00447
loop_
_cod_related_entry_id
_cod_related_entry_database
_cod_related_entry_code
1 AMCSD 0009068
