#------------------------------------------------------------------------------
#$Date: 2024-05-09 11:47:05 +0300 (Thu, 09 May 2024) $
#$Revision: 291792 $
#$URL: file:///home/coder/svn-repositories/cod/cif/9/01/14/9011461.cif $
#------------------------------------------------------------------------------
#
# This file is available in the Crystallography Open Database (COD),
# http://www.crystallography.net/. The original data for this entry
# were provided the American Mineralogist Crystal Structure Database,
# http://rruff.geo.arizona.edu/AMS/amcsd.php
#
# The file may be used within the scientific community so long as
# proper attribution is given to the journal article from which the
# data were obtained.
#
data_9011461
loop_
_publ_author_name
'Kudoh, Y.'
'Takeuchi, Y.'
_publ_section_title
;
 The crystal structure of forsterite Mg2SiO4 under high pressure up to 149 kb
 Sample: P = 31 kbar
;
_journal_name_full               'Zeitschrift fur Kristallographie'
_journal_page_first              291
_journal_page_last               302
_journal_volume                  171
_journal_year                    1985
_chemical_formula_structural     Mg2(SiO4)
_chemical_formula_sum            'Mg2 O4 Si'
_chemical_name_mineral           Forsterite
_space_group_IT_number           62
_symmetry_space_group_name_Hall  '-P 2c 2ab'
_symmetry_space_group_name_H-M   'P b n m'
_cell_angle_alpha                90
_cell_angle_beta                 90
_cell_angle_gamma                90
_cell_length_a                   4.724
_cell_length_b                   10.077
_cell_length_c                   5.942
_cell_formula_units_Z            4
_cell_volume                     282.861
_database_code_amcsd             0010928
_diffrn_ambient_pressure         3.1e+06
_exptl_crystal_density_diffrn    3.304
_cod_original_formula_sum        'Mg2 Si O4'
_cod_database_code               9011461
loop_
_space_group_symop_operation_xyz
x,y,z
x,y,1/2-z
-x,-y,1/2+z
1/2+x,1/2-y,1/2+z
1/2-x,1/2+y,1/2-z
1/2-x,1/2+y,z
1/2+x,1/2-y,-z
-x,-y,-z
loop_
_atom_site_label
_atom_site_fract_x
_atom_site_fract_y
_atom_site_fract_z
_atom_site_U_iso_or_equiv
Mg1 0.00000 0.00000 0.00000 0.00380
Mg2 0.98940 0.27390 0.25000 0.00152
Si 0.42580 0.09710 0.25000 0.00127
O1 0.76560 0.08830 0.25000 0.00443
O2 0.21530 0.44810 0.25000 0.00443
O3 0.27810 0.16390 0.03220 0.00405
loop_
_cod_related_entry_id
_cod_related_entry_database
_cod_related_entry_code
1 AMCSD 0010928
