#------------------------------------------------------------------------------
#$Date: 2024-05-16 09:36:09 +0300 (Thu, 16 May 2024) $
#$Revision: 291877 $
#$URL: file:///home/coder/svn-repositories/cod/cif/9/01/36/9013610.cif $
#------------------------------------------------------------------------------
#
# This file is available in the Crystallography Open Database (COD),
# http://www.crystallography.net/. The original data for this entry
# were provided the American Mineralogist Crystal Structure Database,
# http://rruff.geo.arizona.edu/AMS/amcsd.php
#
# The file may be used within the scientific community so long as
# proper attribution is given to the journal article from which the
# data were obtained.
#
data_9013610
loop_
_publ_author_name
'Ullrich, A.'
'Miletich, R.'
'Nestola, F.'
'Weikusat, C.'
'Ohashi, H.'
_publ_section_title
;Lattice compression and structural behavior of NaVSi2O6 clinopyroxene to 11
 GPa Note: P = 7.18 GPa
;
_journal_name_full               'American Mineralogist'
_journal_page_first              557
_journal_page_last               564
_journal_paper_doi               10.2138/am.2009.2993
_journal_volume                  94
_journal_year                    2009
_chemical_formula_structural     NaVSi2O7
_chemical_formula_sum            'Na O6 Si2 V'
_space_group_IT_number           15
_symmetry_space_group_name_Hall  '-C 2yc'
_symmetry_space_group_name_H-M   'C 1 2/c 1'
_cell_angle_alpha                90
_cell_angle_beta                 106.25
_cell_angle_gamma                90
_cell_length_a                   9.496
_cell_length_b                   8.568
_cell_length_c                   5.201
_cell_formula_units_Z            4
_cell_volume                     406.257
_database_code_amcsd             0004900
_diffrn_ambient_pressure         7.18e+06
_exptl_crystal_density_diffrn    3.697
_cod_original_formula_sum        'Na V Si2 O6'
_cod_database_code               9013610
_amcsd_formula_title             NaVSi2O6
loop_
_space_group_symop_operation_xyz
x,y,z
1/2+x,1/2+y,z
x,-y,1/2+z
1/2+x,1/2-y,1/2+z
-x,y,1/2-z
1/2-x,1/2+y,1/2-z
-x,-y,-z
1/2-x,1/2-y,-z
loop_
_atom_site_label
_atom_site_fract_x
_atom_site_fract_y
_atom_site_fract_z
_atom_site_U_iso_or_equiv
Na 0.00000 0.30640 0.25000 0.01340
V 0.00000 0.90680 0.25000 0.00740
Si 0.29220 0.09300 0.24010 0.00670
O1 0.11570 0.08310 0.14550 0.00610
O2 0.35960 0.26050 0.31830 0.01020
O3 0.35530 0.01680 0.00440 0.00900
loop_
_cod_related_entry_id
_cod_related_entry_database
_cod_related_entry_code
1 AMCSD 0004900
