#------------------------------------------------------------------------------
#$Date: 2023-05-10 20:44:19 +0300 (Wed, 10 May 2023) $
#$Revision: 283658 $
#$URL: file:///home/coder/svn-repositories/cod/cif/9/01/59/9015959.cif $
#------------------------------------------------------------------------------
#
# This file is available in the Crystallography Open Database (COD),
# http://www.crystallography.net/. The original data for this entry
# were provided the American Mineralogist Crystal Structure Database,
# http://rruff.geo.arizona.edu/AMS/amcsd.php
#
# The file may be used within the scientific community so long as
# proper attribution is given to the journal article from which the
# data were obtained.
#
data_9015959
loop_
_publ_author_name
'Alvaro, M.'
'Angel, R. J.'
'Camara, F.'
_publ_section_title
;
 High-pressure behavior of zoisite
 Note: P = 2.945 GPa
;
_journal_name_full               'American Mineralogist'
_journal_page_first              1165
_journal_page_last               1176
_journal_paper_doi               10.2138/am.2012.4014
_journal_volume                  97
_journal_year                    2012
_chemical_compound_source        'Merelani Hills, Tanzania'
_chemical_formula_sum            'Al3 Ca2 H O13 Si3'
_chemical_name_mineral           Zoisite
_space_group_IT_number           62
_symmetry_space_group_name_Hall  '-P 2ac 2n'
_symmetry_space_group_name_H-M   'P n m a'
_cell_angle_alpha                90
_cell_angle_beta                 90
_cell_angle_gamma                90
_cell_formula_units_Z            4
_cell_length_a                   16.1353
_cell_length_b                   5.5062
_cell_length_c                   9.9432
_cell_volume                     883.396
_database_code_amcsd             0019074
_exptl_crystal_density_diffrn    3.416
_cod_original_formula_sum        'Si3 Al3 Ca2 O13 H'
_cod_database_code               9015959
loop_
_space_group_symop_operation_xyz
x,y,z
x,1/2-y,z
-x,1/2+y,-z
1/2-x,1/2+y,1/2+z
1/2+x,1/2-y,1/2-z
1/2+x,y,1/2-z
1/2-x,-y,1/2+z
-x,-y,-z
loop_
_atom_site_label
_atom_site_fract_x
_atom_site_fract_y
_atom_site_fract_z
_atom_site_U_iso_or_equiv
_atom_site_type_symbol
_atom_site_attached_hydrogens
Si1 0.41048 0.75000 0.28080 0.01030 Si 0
Si2 0.08073 0.25000 0.10570 0.01010 Si 0
Si3 0.16006 0.25000 0.43540 0.00960 Si 0
Al12 0.24930 0.99760 0.18880 0.00980 Al 0
Al3 0.10561 0.75000 0.29940 0.01080 Al 0
Ca1 0.36599 0.25000 0.43650 0.01400 Ca 0
Ca2 0.45335 0.25000 0.11270 0.01220 Ca 0
O1 0.12910 0.99510 0.14750 0.01160 O 0
O2 0.10150 0.01470 0.43110 0.01310 O 0
O3 0.35910 0.99120 0.24280 0.01150 O 0
O4 0.21910 0.75000 0.30290 0.01020 O 0
O5 0.22750 0.25000 0.31150 0.00970 O 0
O6 0.27010 0.75000 0.05840 0.01030 O 0
O7 0.99030 0.25000 0.16620 0.01410 O 0
O8 0.99620 0.75000 0.29880 0.01350 O 0
O9 0.42150 0.75000 0.44290 0.02370 O 0
O-H10 0.26440 0.25000 0.07100 0.01420 O 1
loop_
_cod_changelog_entry_id
_cod_changelog_entry_author
_cod_changelog_entry_date
_cod_changelog_entry_text
1
;cod-tools version 3.8.0
Id: cif_guess_AMCSD_atom_types 9574 2023-05-10 09:00:05Z saulius
;
2023-05-10T18:56:35+03:00
;Derived atom types and hydrogen counts
from atom names that follow the AMCSD naming convention
(Wat == water, O-H == hydroxyl).
;
loop_
_cod_related_entry_id
_cod_related_entry_database
_cod_related_entry_code
1 AMCSD 0019074
