#------------------------------------------------------------------------------
#$Date: 2023-05-10 20:44:19 +0300 (Wed, 10 May 2023) $
#$Revision: 283658 $
#$URL: file:///home/coder/svn-repositories/cod/cif/9/01/61/9016180.cif $
#------------------------------------------------------------------------------
#
# This file is available in the Crystallography Open Database (COD),
# http://www.crystallography.net/. The original data for this entry
# were provided the American Mineralogist Crystal Structure Database,
# http://rruff.geo.arizona.edu/AMS/amcsd.php
#
# The file may be used within the scientific community so long as
# proper attribution is given to the journal article from which the
# data were obtained.
#
data_9016180
loop_
_publ_author_name
'Alvaro, M.'
'Angel, R. J.'
'Camara, F.'
_publ_section_title
;
 High-pressure behavior of zoisite
 Note: P = .0001 GPa
;
_journal_name_full               'American Mineralogist'
_journal_page_first              1165
_journal_page_last               1176
_journal_paper_doi               10.2138/am.2012.4014
_journal_volume                  97
_journal_year                    2012
_chemical_compound_source        'Merelani Hills, Tanzania'
_chemical_formula_sum            'Al3 Ca2 H O13 Si3'
_chemical_name_mineral           Zoisite
_space_group_IT_number           62
_symmetry_space_group_name_Hall  '-P 2ac 2n'
_symmetry_space_group_name_H-M   'P n m a'
_cell_angle_alpha                90
_cell_angle_beta                 90
_cell_angle_gamma                90
_cell_formula_units_Z            4
_cell_length_a                   16.2004
_cell_length_b                   5.5529
_cell_length_c                   10.0423
_cell_volume                     903.397
_database_code_amcsd             0019070
_exptl_crystal_density_diffrn    3.341
_cod_original_formula_sum        'Si3 Al3 Ca2 O13 H'
_cod_database_code               9016180
loop_
_space_group_symop_operation_xyz
x,y,z
x,1/2-y,z
-x,1/2+y,-z
1/2-x,1/2+y,1/2+z
1/2+x,1/2-y,1/2-z
1/2+x,y,1/2-z
1/2-x,-y,1/2+z
-x,-y,-z
loop_
_atom_site_label
_atom_site_fract_x
_atom_site_fract_y
_atom_site_fract_z
_atom_site_U_iso_or_equiv
_atom_site_type_symbol
_atom_site_attached_hydrogens
Si1 0.41075 0.75000 0.28280 0.00670 Si 0
Si2 0.08147 0.25000 0.10610 0.00700 Si 0
Si3 0.16030 0.25000 0.43550 0.00560 Si 0
Al12 0.24952 0.99710 0.18950 0.00660 Al 0
Al3 0.10596 0.75000 0.30050 0.00730 Al 0
Ca1 0.36666 0.25000 0.43750 0.01090 Ca 0
Ca2 0.45185 0.25000 0.11500 0.01040 Ca 0
O1 0.13050 0.99980 0.14650 0.00940 O 0
O2 0.10140 0.01320 0.43020 0.00870 O 0
O3 0.35910 0.99170 0.24520 0.00790 O 0
O4 0.21900 0.75000 0.30140 0.00770 O 0
O5 0.22770 0.25000 0.31220 0.00870 O 0
O6 0.27180 0.75000 0.06000 0.00830 O 0
O7 0.99100 0.25000 0.16470 0.01030 O 0
O8 0.99690 0.75000 0.29380 0.00950 O 0
O9 0.42020 0.75000 0.44290 0.01900 O 0
O-H10 0.26770 0.25000 0.07430 0.00990 O 1
loop_
_cod_changelog_entry_id
_cod_changelog_entry_author
_cod_changelog_entry_date
_cod_changelog_entry_text
1
;cod-tools version 3.8.0
Id: cif_guess_AMCSD_atom_types 9574 2023-05-10 09:00:05Z saulius
;
2023-05-10T18:56:46+03:00
;Derived atom types and hydrogen counts
from atom names that follow the AMCSD naming convention
(Wat == water, O-H == hydroxyl).
;
loop_
_cod_related_entry_id
_cod_related_entry_database
_cod_related_entry_code
1 AMCSD 0019070
