#------------------------------------------------------------------------------
#$Date: 2024-05-29 17:00:33 +0300 (Wed, 29 May 2024) $
#$Revision: 292100 $
#$URL: file:///home/coder/svn-repositories/cod/cif/9/01/70/9017019.cif $
#------------------------------------------------------------------------------
#
# This file is available in the Crystallography Open Database (COD),
# http://www.crystallography.net/. The original data for this entry
# were provided the American Mineralogist Crystal Structure Database,
# http://rruff.geo.arizona.edu/AMS/amcsd.php
#
# The file may be used within the scientific community so long as
# proper attribution is given to the journal article from which the
# data were obtained.
#
data_9017019
loop_
_publ_author_name
'Grocholski, B.'
'Shim, S. H.'
'Cottrell, E.'
'Prakapenka, V. B.'
_publ_section_title
;
 Crystal structure and compressibility of lead dioxide up to 140 GPa
 Note: P = 120 GPa
;
_journal_name_full               'American Mineralogist'
_journal_page_first              170
_journal_page_last               177
_journal_volume                  99
_journal_year                    2014
_chemical_compound_source        Synthetic
_chemical_formula_sum            'O2 Pb'
_chemical_name_mineral           Plattnerite
_space_group_IT_number           62
_space_group_name_Hall           '-P 2c 2n'
_space_group_name_H-M_alt        'P n a m'
_symmetry_space_group_name_H-M   'P n a m'
_cell_angle_alpha                90
_cell_angle_beta                 90
_cell_angle_gamma                90
_cell_length_a                   5.128
_cell_length_b                   6.108
_cell_length_c                   3.183
_cell_formula_units_Z            4
_cell_volume                     99.697
_database_code_amcsd             0020168
_diffrn_ambient_pressure         1.2e+08
_exptl_crystal_density_diffrn    15.936
_cod_data_source_file            inputs/fixed/downloads/05/05650.cif
_cod_data_source_block           05650
_cod_original_formula_sum        'Pb O2'
_cod_database_code               9017019
loop_
_space_group_symop_operation_xyz
x,y,z
x,y,1/2-z
-x,-y,1/2+z
1/2-x,1/2+y,1/2+z
1/2+x,1/2-y,1/2-z
1/2+x,1/2-y,z
1/2-x,1/2+y,-z
-x,-y,-z
loop_
_atom_site_label
_atom_site_fract_x
_atom_site_fract_y
_atom_site_fract_z
Pb 0.25100 0.10900 0.25000
O1 0.36000 0.42800 0.25000
O2 0.07900 0.33900 0.75000
loop_
_cod_related_entry_id
_cod_related_entry_database
_cod_related_entry_code
1 AMCSD 0020168
