#------------------------------------------------------------------------------
#$Date: 2024-05-29 17:00:33 +0300 (Wed, 29 May 2024) $
#$Revision: 292100 $
#$URL: file:///home/coder/svn-repositories/cod/cif/9/01/73/9017301.cif $
#------------------------------------------------------------------------------
#
# This file is available in the Crystallography Open Database (COD),
# http://www.crystallography.net/. The original data for this entry
# were provided the American Mineralogist Crystal Structure Database,
# http://rruff.geo.arizona.edu/AMS/amcsd.php
#
# The file may be used within the scientific community so long as
# proper attribution is given to the journal article from which the
# data were obtained.
#
data_9017301
loop_
_publ_author_name
'Dal Negro, A.'
'De Pieri, R.'
'Quareni, S.'
_publ_section_title
;
 The crystal structures of nine K feldspars from the Adamello
 Massif (Northern Italy)
 Note: Sample CA1B
;
_journal_name_full               'Acta Crystallographica, Section B'
_journal_page_first              2699
_journal_page_last               2707
_journal_volume                  34
_journal_year                    1978
_chemical_compound_source        'Adamello Massif, Northern Italy'
_chemical_formula_sum            'Al0.99 K0.94 Na0.06 O8 Si3.01'
_chemical_name_mineral           Microcline
_space_group_IT_number           2
_space_group_name_Hall           '-C 1'
_space_group_name_H-M_alt        'C -1'
_symmetry_space_group_name_H-M   'C -1'
_cell_angle_alpha                90.28
_cell_angle_beta                 116.03
_cell_angle_gamma                89.03
_cell_length_a                   8.560
_cell_length_b                   12.984
_cell_length_c                   7.209
_cell_formula_units_Z            4
_cell_volume                     719.851
_database_code_amcsd             0020536
_exptl_crystal_density_diffrn    2.559
_cod_data_source_file            inputs/fixed/downloads/11/11139.cif
_cod_data_source_block           11139
_cod_original_formula_sum        'K.94 Na.06 (Al.99 Si3.01) O8'
_cod_database_code               9017301
loop_
_space_group_symop_operation_xyz
x,y,z
1/2+x,1/2+y,z
-x,-y,-z
1/2-x,1/2-y,-z
loop_
_atom_site_label
_atom_site_fract_x
_atom_site_fract_y
_atom_site_fract_z
_atom_site_occupancy
K1 0.28370 0.99670 0.13750 0.94000
Na1 0.28370 0.99670 0.13570 0.06000
Al1 0.00990 0.18580 0.22140 0.63000
Si1 0.00990 0.18580 0.22140 0.37000
Al2 0.00940 0.81730 0.22770 0.24000
Si2 0.00940 0.81730 0.22770 0.76000
Al3 0.70940 0.11890 0.34250 0.06500
Si3 0.70940 0.11890 0.34250 0.93500
Al4 0.70700 0.88360 0.34700 0.05500
Si4 0.70700 0.88360 0.34700 0.94500
O1 0.00030 0.14480 0.99260 1.00000
O2 0.63560 0.00240 0.28530 1.00000
O3 0.82390 0.14650 0.22380 1.00000
O4 0.82810 0.85550 0.23290 1.00000
O5 0.03450 0.31500 0.25620 1.00000
O6 0.03580 0.69160 0.26360 1.00000
O7 0.18570 0.12480 0.40620 1.00000
O8 0.17940 0.87410 0.40900 1.00000
loop_
_cod_related_entry_id
_cod_related_entry_database
_cod_related_entry_code
1 AMCSD 0020536
